BEGIN:VCALENDAR
VERSION:2.0
METHOD:PUBLISH
PRODID:-//Missouri State University/Calendar of Events//EN
CALSCALE:GREGORIAN
X-WR-TIMEZONE:America/Chicago
BEGIN:VTIMEZONE
TZID:America/Chicago
BEGIN:DAYLIGHT
TZOFFSETFROM:-0600
TZOFFSETTO:-0500
DTSTART:20070311T020000
RRULE:FREQ=YEARLY;BYMONTH=3;BYDAY=2SU
TZNAME:CDT
END:DAYLIGHT
BEGIN:STANDARD
TZOFFSETFROM:-0500
TZOFFSETTO:-0600
DTSTART:20071104T020000
RRULE:FREQ=YEARLY;BYMONTH=11;BYDAY=1SU
TZNAME:CST
END:STANDARD
END:VTIMEZONE
BEGIN:VEVENT
UID:e4fcf457-7ac2-469a-bc38-83431550b959.229168@calendar.missouristate.edu
CREATED:20230825T184312Z
LAST-MODIFIED:20230825T184312Z
LOCATION:Meyer Library\, Duane G. 120
SUMMARY:Advising Support Workshop
DESCRIPTION:Registration Required. Limited seats available.\n\n\nPresenter
 s: Katie Tucker\, Administrative Specialist III\, Academic Advising &amp; Tra
 nsfer Center and Blanca Mallonee\, Executive Assistant III\, Division of 
 Student Success\n\n\nThis two-hour workshop is tailored to meet the needs
  of front-line personnel who are often the initial contact for students w
 ho have advising needs and/or part of the process of assigning advisors f
 or departments. The facilitators will discuss topics that will lessen stu
 dent run-around and offer students more advising consistency among depart
 ments\, changing advisors and campus resources available to students.
X-ALT-DESC;FMTTYPE=text/html:&lt;html&gt;&lt;head&gt;&lt;title&gt;&lt;/title&gt;&lt;/head&gt;&lt;body&gt;&lt;p&gt;Re
 gistration Required.&amp;nbsp\;Limited seats available.&lt;/p&gt;\n&lt;p&gt;Presenters: K
 atie Tucker\, Administrative Specialist III\, Academic Advising &amp;amp\; Tr
 ansfer Center and Blanca Mallonee\, Executive Assistant III\, Division of
  Student Success&lt;/p&gt;\n&lt;p&gt;This two-hour workshop is tailored to meet the n
 eeds of front-line personnel who are often the initial contact for studen
 ts who have advising needs and/or part of the process of assigning adviso
 rs for departments. The facilitators will discuss topics that will lessen
  student run-around and offer students more advising consistency among de
 partments\, changing advisors and campus resources available to students.
 &lt;/p&gt;&lt;/body&gt;&lt;/html&gt;
DTSTART;TZID=America/Chicago:20230928T083000
DTEND;TZID=America/Chicago:20230928T103000
SEQUENCE:0
URL:120049.png
CATEGORIES:Staff
END:VEVENT
END:VCALENDAR