BEGIN:VCALENDAR
VERSION:2.0
METHOD:PUBLISH
PRODID:-//Missouri State University/Calendar of Events//EN
CALSCALE:GREGORIAN
X-WR-TIMEZONE:America/Chicago
BEGIN:VTIMEZONE
TZID:America/Chicago
BEGIN:DAYLIGHT
TZOFFSETFROM:-0600
TZOFFSETTO:-0500
DTSTART:20070311T020000
RRULE:FREQ=YEARLY;BYMONTH=3;BYDAY=2SU
TZNAME:CDT
END:DAYLIGHT
BEGIN:STANDARD
TZOFFSETFROM:-0500
TZOFFSETTO:-0600
DTSTART:20071104T020000
RRULE:FREQ=YEARLY;BYMONTH=11;BYDAY=1SU
TZNAME:CST
END:STANDARD
END:VTIMEZONE
BEGIN:VEVENT
UID:ab72b560-bc34-4946-aaa1-f8c73d09be22.229169@calendar.missouristate.edu
CREATED:20230825T191622Z
LAST-MODIFIED:20230825T191622Z
LOCATION:
SUMMARY:Academic Advisor Forum: Accelerated Graduate Programs: What (UG an
 d GR) Advisors Need to Know
DESCRIPTION:Zoom: https://missouristate.zoom.us/j/96502298005\n\n\nPresent
 ers: Dr. Carrisa Hoelscher\, Associate Dean of Graduate College\n\n\nDr. 
 Julie Masterson\, Associate Provost &amp; Dean of Graduate College\n\n\nDid y
 ou know that roughly two-thirds of the graduate programs at Missouri Stat
 e offer an accelerated path? Have you been curious about what that means 
 or how you can better help students who are interested? Attend this forum
  to learn how an accelerated path into graduate school might be advantage
 ous for your advisees. We’ll cover the benefits\, admission requirements 
 and policies related to accelerated programs.
X-ALT-DESC;FMTTYPE=text/html:&lt;html&gt;&lt;head&gt;&lt;title&gt;&lt;/title&gt;&lt;/head&gt;&lt;body&gt;&lt;p&gt;Zo
 om: https://missouristate.zoom.us/j/96502298005&lt;/p&gt;\n&lt;p&gt;Presenters: Dr. C
 arrisa Hoelscher\, Associate Dean of Graduate College&lt;/p&gt;\n&lt;p&gt;Dr. Julie M
 asterson\, Associate Provost &amp;amp\; Dean of Graduate College&lt;/p&gt;\n&lt;p&gt;Did 
 you know that roughly two-thirds of the graduate programs at Missouri Sta
 te offer an accelerated path? Have you been curious about what that means
  or how you can better help students who are interested? Attend this foru
 m to learn how an accelerated path into graduate school might be advantag
 eous for your advisees. We’ll cover the benefits\, admission requirements
  and policies related to accelerated programs.&lt;/p&gt;&lt;/body&gt;&lt;/html&gt;
DTSTART;TZID=America/Chicago:20231012T120000
DTEND;TZID=America/Chicago:20231012T130000
SEQUENCE:0
URL:120050.png
CATEGORIES:Faculty,Staff
END:VEVENT
END:VCALENDAR