BEGIN:VCALENDAR
VERSION:2.0
METHOD:PUBLISH
PRODID:-//Missouri State University/Calendar of Events//EN
CALSCALE:GREGORIAN
X-WR-TIMEZONE:America/Chicago
BEGIN:VTIMEZONE
TZID:America/Chicago
BEGIN:DAYLIGHT
TZOFFSETFROM:-0600
TZOFFSETTO:-0500
DTSTART:20070311T020000
RRULE:FREQ=YEARLY;BYMONTH=3;BYDAY=2SU
TZNAME:CDT
END:DAYLIGHT
BEGIN:STANDARD
TZOFFSETFROM:-0500
TZOFFSETTO:-0600
DTSTART:20071104T020000
RRULE:FREQ=YEARLY;BYMONTH=11;BYDAY=1SU
TZNAME:CST
END:STANDARD
END:VTIMEZONE
BEGIN:VEVENT
UID:86d347cb-776b-4454-8195-bfda384c7876.229170@calendar.missouristate.edu
CREATED:20230825T191725Z
LAST-MODIFIED:20230825T191725Z
LOCATION:
SUMMARY:Academic Advisor Forum: It Takes Two to Transfer: A Conversation w
 ith our Colleagues at Two-Year Institutions
DESCRIPTION:Zoom: https://missouristate.zoom.us/j/91529292985\n\n\nFacilit
 ator: Campbell Keele\, Coordinator\, Transfer Initiatives\, Academic Advi
 sing &amp; Transfer Center\n\n\nCo-sponsored by the Transfer Advising Committ
 ee\n\n\nHave you ever wondered what our colleagues at two-year institutio
 ns experience when they work to help their students transition to MSU? Wo
 uld you like to know more about the experiences our prospective transfer 
 students have prior to their transfer? If so\, this forum is for you! Ple
 ase join us for a Q&amp;A where we'll discuss the student and advisor experie
 nces at two-year institutions with our colleagues from Crowder College\, 
 Jefferson College\, Missouri State University-West Plains and Ozarks Tech
 nical Community College.
X-ALT-DESC;FMTTYPE=text/html:&lt;html&gt;&lt;head&gt;&lt;title&gt;&lt;/title&gt;&lt;/head&gt;&lt;body&gt;&lt;p&gt;Zo
 om: https://missouristate.zoom.us/j/91529292985&lt;/p&gt;\n&lt;p&gt;Facilitator: Camp
 bell Keele\, Coordinator\, Transfer Initiatives\, Academic Advising &amp;amp\
 ; Transfer Center&lt;/p&gt;\n&lt;p&gt;Co-sponsored by the Transfer Advising Committee
 &lt;/p&gt;\n&lt;p&gt;Have you ever wondered what our colleagues at two-year instituti
 ons experience when they work to help their students transition to MSU? W
 ould you like to know more about the experiences our prospective transfer
  students have prior to their transfer? If so\, this forum is for you! Pl
 ease join us for a Q&amp;amp\;A where we'll discuss the student and advisor e
 xperiences at two-year institutions with our colleagues from Crowder Coll
 ege\, Jefferson College\, Missouri State University-West Plains and Ozark
 s Technical Community College.&lt;/p&gt;&lt;/body&gt;&lt;/html&gt;
DTSTART;TZID=America/Chicago:20231017T120000
DTEND;TZID=America/Chicago:20231017T130000
SEQUENCE:0
URL:120051.png
CATEGORIES:Faculty,Staff
END:VEVENT
END:VCALENDAR