BEGIN:VCALENDAR
VERSION:2.0
METHOD:PUBLISH
PRODID:-//Missouri State University/Calendar of Events//EN
CALSCALE:GREGORIAN
X-WR-TIMEZONE:America/Chicago
BEGIN:VTIMEZONE
TZID:America/Chicago
BEGIN:DAYLIGHT
TZOFFSETFROM:-0600
TZOFFSETTO:-0500
DTSTART:20070311T020000
RRULE:FREQ=YEARLY;BYMONTH=3;BYDAY=2SU
TZNAME:CDT
END:DAYLIGHT
BEGIN:STANDARD
TZOFFSETFROM:-0500
TZOFFSETTO:-0600
DTSTART:20071104T020000
RRULE:FREQ=YEARLY;BYMONTH=11;BYDAY=1SU
TZNAME:CST
END:STANDARD
END:VTIMEZONE
BEGIN:VEVENT
UID:aaf8158a-92ed-4e00-8714-92ff554ff071.229186@calendar.missouristate.edu
CREATED:20230825T192316Z
LAST-MODIFIED:20230825T192316Z
LOCATION:
SUMMARY:Academic Advisor Forum: Technology in Advising Updates
DESCRIPTION:Zoom: https://missouristate.zoom.us/j/94211409825\n\n\nFacilit
 ator: Brian Edmond\, Coordinator of Management Information Systems\n\n\nP
 resented by Computer Services Staff\n\n\nCome learn from the Computer Ser
 vices staff about changes in technology and Banner upgrades\, including t
 he new BrightSpace platform. This forum is important to understand upgrad
 es that will affect how we advise students.
X-ALT-DESC;FMTTYPE=text/html:&lt;html&gt;&lt;head&gt;&lt;title&gt;&lt;/title&gt;&lt;/head&gt;&lt;body&gt;&lt;p&gt;Zo
 om: https://missouristate.zoom.us/j/94211409825&lt;/p&gt;\n&lt;p&gt;Facilitator: Bria
 n Edmond\, Coordinator of Management Information Systems&lt;/p&gt;\n&lt;p&gt;Presente
 d by Computer Services Staff&lt;/p&gt;\n&lt;p&gt;Come learn from the Computer Service
 s staff about changes in technology and Banner upgrades\, including the n
 ew BrightSpace platform. This forum is important to understand upgrades t
 hat will affect how we advise students.&lt;/p&gt;&lt;/body&gt;&lt;/html&gt;
DTSTART;TZID=America/Chicago:20231204T120000
DTEND;TZID=America/Chicago:20231204T130000
SEQUENCE:0
URL:120053.png
CATEGORIES:Faculty,Staff
END:VEVENT
END:VCALENDAR