BEGIN:VCALENDAR
VERSION:2.0
METHOD:PUBLISH
PRODID:-//Missouri State University/Calendar of Events//EN
CALSCALE:GREGORIAN
X-WR-TIMEZONE:America/Chicago
BEGIN:VTIMEZONE
TZID:America/Chicago
BEGIN:DAYLIGHT
TZOFFSETFROM:-0600
TZOFFSETTO:-0500
DTSTART:20070311T020000
RRULE:FREQ=YEARLY;BYMONTH=3;BYDAY=2SU
TZNAME:CDT
END:DAYLIGHT
BEGIN:STANDARD
TZOFFSETFROM:-0500
TZOFFSETTO:-0600
DTSTART:20071104T020000
RRULE:FREQ=YEARLY;BYMONTH=11;BYDAY=1SU
TZNAME:CST
END:STANDARD
END:VTIMEZONE
BEGIN:VEVENT
UID:1012ad78-d0e3-4c9e-b6c1-b4260a3f044c.229187@calendar.missouristate.edu
CREATED:20230825T192416Z
LAST-MODIFIED:20230825T192416Z
LOCATION:Plaster Student Union\, Robert W. 313
SUMMARY:Academic Advisor Forum: Advising International Students 
DESCRIPTION:Presenter: Patrick Parnell\, Director of International Service
 s\n\n\nAttend this forum to receive an overview of our international stud
 ent population and the categories they comprise. In doing so\, we can sha
 re perspectives regarding opportunities and challenges corresponding to t
 heir enrollment\, regulatory parameters\, and overall experience at our i
 nstitution.
X-ALT-DESC;FMTTYPE=text/html:&lt;html&gt;&lt;head&gt;&lt;title&gt;&lt;/title&gt;&lt;/head&gt;&lt;body&gt;&lt;p&gt;Pr
 esenter: Patrick Parnell\, Director of International Services&lt;/p&gt;\n&lt;p&gt;Att
 end this forum to receive an overview of our international student popula
 tion and the categories they comprise. In doing so\, we can share perspec
 tives regarding opportunities and challenges corresponding to their enrol
 lment\, regulatory parameters\, and overall experience at our institution
 .&lt;/p&gt;&lt;/body&gt;&lt;/html&gt;
DTSTART;TZID=America/Chicago:20231211T120000
DTEND;TZID=America/Chicago:20231211T130000
SEQUENCE:0
URL:
CATEGORIES:Faculty,Staff
END:VEVENT
END:VCALENDAR