BEGIN:VCALENDAR
VERSION:2.0
METHOD:PUBLISH
PRODID:-//Missouri State University/Calendar of Events//EN
CALSCALE:GREGORIAN
X-WR-TIMEZONE:America/Chicago
BEGIN:VTIMEZONE
TZID:America/Chicago
BEGIN:DAYLIGHT
TZOFFSETFROM:-0600
TZOFFSETTO:-0500
DTSTART:20070311T020000
RRULE:FREQ=YEARLY;BYMONTH=3;BYDAY=2SU
TZNAME:CDT
END:DAYLIGHT
BEGIN:STANDARD
TZOFFSETFROM:-0500
TZOFFSETTO:-0600
DTSTART:20071104T020000
RRULE:FREQ=YEARLY;BYMONTH=11;BYDAY=1SU
TZNAME:CST
END:STANDARD
END:VTIMEZONE
BEGIN:VEVENT
UID:e7d861c0-88ad-4b38-836f-5d6fb8532e50_10066@calendar.missouristate.edu
CREATED:20230826T211032Z
LAST-MODIFIED:20230826T211032Z
LOCATION:https://www.jcpenney.com/
SUMMARY:JCPenney Online Suit-Up Event
DESCRIPTION:Starting this Sunday\, Aug. 27\, MSU Bears (students\, alumni\
 , faculty and staff) can text the code\, "BEARS" to 67292 to receive a co
 upon for professional attire! \n\n\nGreat for career fairs\, interviews +
  starting off the school year!
X-ALT-DESC;FMTTYPE=text/html:&lt;html&gt;&lt;head&gt;&lt;title&gt;&lt;/title&gt;&lt;/head&gt;&lt;body&gt;&lt;p&gt;&lt;s
 pan&gt;Starting this Sunday\, Aug. 27\, MSU Bears (students\, alumni\, facul
 ty and staff) can text the code\, "BEARS" to 67292 to receive a coupon fo
 r professional attire! &lt;/span&gt;&lt;/p&gt;\n&lt;p&gt;&lt;span&gt;Great for career fairs\, int
 erviews + starting off the school year! &lt;/span&gt;&lt;span&gt;&lt;img height="16" wid
 th="16" alt="" src="https://static.xx.fbcdn.net/images/emoji.php/v9/t5b/1
 /16/1f43b.png"&gt;&lt;/span&gt;&lt;/p&gt;&lt;/body&gt;&lt;/html&gt;
DTSTART;VALUE=DATE:20230827
DTEND;VALUE=DATE:20230828
RRULE:FREQ=DAILY;UNTIL=20231007
SEQUENCE:0
URL:https://careercenter.missouristate.edu/international-student-virtual-c
 areer-event.htm
CATEGORIES:Alumni,Current Students,Faculty,Staff
END:VEVENT
END:VCALENDAR