BEGIN:VCALENDAR
VERSION:2.0
METHOD:PUBLISH
PRODID:-//Missouri State University/Calendar of Events//EN
CALSCALE:GREGORIAN
X-WR-TIMEZONE:America/Chicago
BEGIN:VTIMEZONE
TZID:America/Chicago
BEGIN:DAYLIGHT
TZOFFSETFROM:-0600
TZOFFSETTO:-0500
DTSTART:20070311T020000
RRULE:FREQ=YEARLY;BYMONTH=3;BYDAY=2SU
TZNAME:CDT
END:DAYLIGHT
BEGIN:STANDARD
TZOFFSETFROM:-0500
TZOFFSETTO:-0600
DTSTART:20071104T020000
RRULE:FREQ=YEARLY;BYMONTH=11;BYDAY=1SU
TZNAME:CST
END:STANDARD
END:VTIMEZONE
BEGIN:VEVENT
UID:566b3335-5c84-4671-8bb4-08673b93695e.229234@calendar.missouristate.edu
CREATED:20230826T210557Z
LAST-MODIFIED:20230826T210557Z
LOCATION:Glass Hall\, David D. 276 - Career Center location (2nd Floor Atr
 ium)
SUMMARY:Business Resume Café Event
DESCRIPTION:MSU students and alumni can come to Resume Café for quick drop
 -in resume feedback\, free coffee and sweet treats!\n\n\nJoin us on Sept.
  5 and 6 to prepare for the Sept. 12 and 13 Business and the Technology &amp;
  Construction Management career fairs.
X-ALT-DESC;FMTTYPE=text/html:&lt;html&gt;&lt;head&gt;&lt;title&gt;&lt;/title&gt;&lt;/head&gt;&lt;body&gt;&lt;p&gt;&lt;s
 pan&gt;MSU students and alumni can come to Resume Café for quick drop-in res
 ume feedback\, free coffee and sweet treats!&lt;/span&gt;&lt;/p&gt;\n&lt;p&gt;&lt;span&gt;Join us
  on Sept. 5 and 6 to prepare for the Sept. 12 and 13 Business and the Tec
 hnology &amp;amp\; Construction Management career fairs.&lt;/span&gt;&lt;/p&gt;&lt;/body&gt;&lt;/h
 tml&gt;
DTSTART;TZID=America/Chicago:20230905T100000
DTEND;TZID=America/Chicago:20230905T140000
SEQUENCE:0
URL:https://careercenter.missouristate.edu/resumecafe.htm
CATEGORIES:Alumni,Current Students
END:VEVENT
END:VCALENDAR