BEGIN:VCALENDAR
VERSION:2.0
METHOD:PUBLISH
PRODID:-//Missouri State University/Calendar of Events//EN
CALSCALE:GREGORIAN
X-WR-TIMEZONE:America/Chicago
BEGIN:VTIMEZONE
TZID:America/Chicago
BEGIN:DAYLIGHT
TZOFFSETFROM:-0600
TZOFFSETTO:-0500
DTSTART:20070311T020000
RRULE:FREQ=YEARLY;BYMONTH=3;BYDAY=2SU
TZNAME:CDT
END:DAYLIGHT
BEGIN:STANDARD
TZOFFSETFROM:-0500
TZOFFSETTO:-0600
DTSTART:20071104T020000
RRULE:FREQ=YEARLY;BYMONTH=11;BYDAY=1SU
TZNAME:CST
END:STANDARD
END:VTIMEZONE
BEGIN:VEVENT
UID:560d451e-12e6-466a-bf36-8a53070903e5.229240@calendar.missouristate.edu
CREATED:20230828T135258Z
LAST-MODIFIED:20230828T135258Z
LOCATION:Karls Hall Atrium - 1st Floor
SUMMARY:Agriculture Resume Café Event
DESCRIPTION:Darr College of Agriculture students and alumni can come to Re
 sume Café for quick drop-in resume feedback and free coffee!
X-ALT-DESC;FMTTYPE=text/html:&lt;html&gt;&lt;head&gt;&lt;title&gt;&lt;/title&gt;&lt;/head&gt;&lt;body&gt;&lt;p&gt;&lt;s
 pan&gt;Darr College of Agriculture students and alumni can come to Resume Ca
 fé for quick drop-in resume feedback and free coffee!&lt;/span&gt;&lt;/p&gt;\n&lt;p&gt;&lt;/p&gt;
 &lt;/body&gt;&lt;/html&gt;
DTSTART;TZID=America/Chicago:20230907T100000
DTEND;TZID=America/Chicago:20230907T140000
SEQUENCE:0
URL:https://careercenter.missouristate.edu/resumecafe.htm
CATEGORIES:Alumni,Current Students
END:VEVENT
END:VCALENDAR