BEGIN:VCALENDAR
VERSION:2.0
METHOD:PUBLISH
PRODID:-//Missouri State University/Calendar of Events//EN
CALSCALE:GREGORIAN
X-WR-TIMEZONE:America/Chicago
BEGIN:VTIMEZONE
TZID:America/Chicago
BEGIN:DAYLIGHT
TZOFFSETFROM:-0600
TZOFFSETTO:-0500
DTSTART:20070311T020000
RRULE:FREQ=YEARLY;BYMONTH=3;BYDAY=2SU
TZNAME:CDT
END:DAYLIGHT
BEGIN:STANDARD
TZOFFSETFROM:-0500
TZOFFSETTO:-0600
DTSTART:20071104T020000
RRULE:FREQ=YEARLY;BYMONTH=11;BYDAY=1SU
TZNAME:CST
END:STANDARD
END:VTIMEZONE
BEGIN:VEVENT
UID:da340edd-a072-4f1e-811a-867c2ef8b3e8.229241@calendar.missouristate.edu
CREATED:20230826T205551Z
LAST-MODIFIED:20230826T205551Z
LOCATION:Strong Hall Atrium - 1st Floor
SUMMARY:Resume Café Events
DESCRIPTION:Resume Café Events are open to all MSU students and alumni. It
 's an opportunity to get resumes reviewed with some feedback to help prep
 are for job and graduate school applications\, interviews\, class assignm
 ents\, etc.\n\n\nBring your rough draft resume and get a quick review at 
 these locations: \n\n\nSept. 20\, 11 a.m.-2 p.m.\n\n\n\nStrong Hall Atriu
 m\nO'Reilly Clinical Science Hall Atrium\n\nSept. 21\, 11 a.m.-2 p.m.\n\n
 \n\nHill Hall\, 2nd floor (outside of Education Advisement)\nPlaster Stud
 ent Union\, 2nd Floor
X-ALT-DESC;FMTTYPE=text/html:&lt;html&gt;&lt;head&gt;&lt;title&gt;&lt;/title&gt;&lt;/head&gt;&lt;body&gt;&lt;p&gt;Re
 sume&amp;nbsp\;&lt;span&gt;Café&lt;/span&gt; Events are open to all MSU students and alum
 ni. It's an opportunity to get resumes reviewed with some feedback to hel
 p prepare for job and graduate school applications\, interviews\, class a
 ssignments\, etc.&lt;/p&gt;\n&lt;p&gt;Bring your rough draft resume and get a quick r
 eview at these locations: &lt;/p&gt;\n&lt;p&gt;Sept. 20\, 11 a.m.-2 p.m.&lt;/p&gt;\n&lt;ul&gt;\n&lt;
 li&gt;Strong Hall Atrium&lt;/li&gt;\n&lt;li&gt;O'Reilly Clinical Science Hall Atrium&lt;/li
 &gt;\n&lt;/ul&gt;\n&lt;p&gt;Sept. 21\, 11 a.m.-2 p.m.&lt;/p&gt;\n&lt;ul&gt;\n&lt;li&gt;Hill Hall\, 2nd flo
 or (outside of Education Advisement)&lt;/li&gt;\n&lt;li&gt;Plaster Student Union\, 2n
 d Floor&lt;/li&gt;\n&lt;/ul&gt;&lt;/body&gt;&lt;/html&gt;
DTSTART;TZID=America/Chicago:20230920T110000
DTEND;TZID=America/Chicago:20230920T140000
SEQUENCE:0
URL:https://careercenter.missouristate.edu/resumecafe.htm
CATEGORIES:Alumni,Current Students
END:VEVENT
END:VCALENDAR