BEGIN:VCALENDAR
VERSION:2.0
METHOD:PUBLISH
PRODID:-//Missouri State University/Calendar of Events//EN
CALSCALE:GREGORIAN
X-WR-TIMEZONE:America/Chicago
BEGIN:VTIMEZONE
TZID:America/Chicago
BEGIN:DAYLIGHT
TZOFFSETFROM:-0600
TZOFFSETTO:-0500
DTSTART:20070311T020000
RRULE:FREQ=YEARLY;BYMONTH=3;BYDAY=2SU
TZNAME:CDT
END:DAYLIGHT
BEGIN:STANDARD
TZOFFSETFROM:-0500
TZOFFSETTO:-0600
DTSTART:20071104T020000
RRULE:FREQ=YEARLY;BYMONTH=11;BYDAY=1SU
TZNAME:CST
END:STANDARD
END:VTIMEZONE
BEGIN:VEVENT
UID:468dd1f3-5c72-4c63-84b2-9590d1eb4c5e.229245@calendar.missouristate.edu
CREATED:20230826T204938Z
LAST-MODIFIED:20230826T204938Z
LOCATION:Plaster Student Union\, Robert W. Grand Ballroom
SUMMARY:PK-12 Teacher Education Career Fair
DESCRIPTION:This Career Planning Fair is for all students and alumni who w
 ant to work in the PK-12 education setting. If you are preparing for stud
 ent teaching\, practicum experiences\, full-time teaching and other full-
 time jobs in the K-12 setting\, this career fair is for you.\n\n\nIt is o
 pen to freshmen\, sophomores\, juniors\, seniors\, graduate students and 
 alumni.\n\n\nThe participating school districts may have opportunities th
 at include internships\, student teaching and part-time or full-time empl
 oyment\, as well as great developmental opportunities.
X-ALT-DESC;FMTTYPE=text/html:&lt;html&gt;&lt;head&gt;&lt;title&gt;&lt;/title&gt;&lt;/head&gt;&lt;body&gt;&lt;p&gt;Th
 is Career Planning Fair is for all students and alumni who want to work i
 n the PK-12 education setting. If you are preparing for student teaching\
 , practicum experiences\, full-time teaching and other full-time jobs in 
 the K-12 setting\, this career fair is for you.&lt;/p&gt;\n&lt;p&gt;It is open to&amp;nbs
 p\;&lt;strong&gt;freshmen\, sophomores\, juniors\, seniors\, graduate students 
 and alumni&lt;/strong&gt;.&lt;/p&gt;\n&lt;p&gt;The participating school districts may have 
 opportunities that include internships\, student teaching and part-time o
 r full-time employment\, as well as great developmental opportunities.&lt;/p
 &gt;&lt;/body&gt;&lt;/html&gt;
DTSTART;TZID=America/Chicago:20230928T100000
DTEND;TZID=America/Chicago:20230928T130000
SEQUENCE:0
URL:https://careercenter.missouristate.edu/Career-fairs.htm
CATEGORIES:Alumni,Current Students,Faculty,Staff
END:VEVENT
END:VCALENDAR