BEGIN:VCALENDAR
VERSION:2.0
METHOD:PUBLISH
PRODID:-//Missouri State University/Calendar of Events//EN
CALSCALE:GREGORIAN
X-WR-TIMEZONE:America/Chicago
BEGIN:VTIMEZONE
TZID:America/Chicago
BEGIN:DAYLIGHT
TZOFFSETFROM:-0600
TZOFFSETTO:-0500
DTSTART:20070311T020000
RRULE:FREQ=YEARLY;BYMONTH=3;BYDAY=2SU
TZNAME:CDT
END:DAYLIGHT
BEGIN:STANDARD
TZOFFSETFROM:-0500
TZOFFSETTO:-0600
DTSTART:20071104T020000
RRULE:FREQ=YEARLY;BYMONTH=11;BYDAY=1SU
TZNAME:CST
END:STANDARD
END:VTIMEZONE
BEGIN:VEVENT
UID:2f89b158-bc62-4d98-8cf0-151c5c3ccd01.229246@calendar.missouristate.edu
CREATED:20230828T130736Z
LAST-MODIFIED:20230828T130736Z
LOCATION:Plaster Student Union\, Robert W. 312
SUMMARY:Bear Bridge Meet and Greet 
DESCRIPTION:Come meet your Bear Bridge mentor and mentee. Continental brea
 kfast provided.
X-ALT-DESC;FMTTYPE=text/html:&lt;html&gt;&lt;head&gt;&lt;title&gt;&lt;/title&gt;&lt;/head&gt;&lt;body&gt;&lt;p&gt;Co
 me meet your Bear Bridge mentor and mentee. Continental breakfast provide
 d.&lt;/p&gt;&lt;/body&gt;&lt;/html&gt;
DTSTART;TZID=America/Chicago:20230831T080000
DTEND;TZID=America/Chicago:20230831T110000
SEQUENCE:0
URL:https://www.missouristate.edu/Provost/BearBridge/default.htm
CATEGORIES:Faculty,Staff
END:VEVENT
END:VCALENDAR