BEGIN:VCALENDAR
VERSION:2.0
METHOD:PUBLISH
PRODID:-//Missouri State University/Calendar of Events//EN
CALSCALE:GREGORIAN
X-WR-TIMEZONE:America/Chicago
BEGIN:VTIMEZONE
TZID:America/Chicago
BEGIN:DAYLIGHT
TZOFFSETFROM:-0600
TZOFFSETTO:-0500
DTSTART:20070311T020000
RRULE:FREQ=YEARLY;BYMONTH=3;BYDAY=2SU
TZNAME:CDT
END:DAYLIGHT
BEGIN:STANDARD
TZOFFSETFROM:-0500
TZOFFSETTO:-0600
DTSTART:20071104T020000
RRULE:FREQ=YEARLY;BYMONTH=11;BYDAY=1SU
TZNAME:CST
END:STANDARD
END:VTIMEZONE
BEGIN:VEVENT
UID:9351b792-d76b-44d9-bde6-20bc65752bdd.229249@calendar.missouristate.edu
CREATED:20230901T024002Z
LAST-MODIFIED:20230901T024002Z
LOCATION:Plaster Free Enterprise Center\, Robert W.
SUMMARY:The Talent Trifecta: Recruit\, Retain and Grow 
DESCRIPTION:What's the secret to attracting and retaining employees? An in
 credible culture. Company culture can make or break your business. When p
 eople feel valued and empowered\, they go above and beyond to achieve the
 ir organization's goals. In this seminar\, you'll discover how to cultiva
 te a culture that retains top talent. You'll learn how to find the right 
 person for the position and help him/her exceed his/her potential. You'll
  also dive into proven recruiting techniques and ideas for keeping your b
 est employees happy and productive.When you complete this course\, you'll
  walk away with strategies for increasing employee job satisfaction and t
 rust. You'll also gain a deeper understanding of how to develop a lasting
  and meaningful culture that encourages employees to stay.
X-ALT-DESC;FMTTYPE=text/html:&lt;html&gt;&lt;head&gt;&lt;title&gt;&lt;/title&gt;&lt;/head&gt;&lt;body&gt;&lt;p&gt;Wh
 at's the secret to attracting and retaining employees? An incredible cult
 ure. Company culture can make or break your business. When people feel va
 lued and empowered\, they go above and beyond to achieve their organizati
 on's goals. In this seminar\, you'll discover how to cultivate a culture 
 that retains top talent. You'll learn how to find the right person for th
 e position and help him/her exceed his/her potential. You'll also dive in
 to proven recruiting techniques and ideas for keeping your best employees
  happy and productive.&lt;br&gt;&lt;br&gt;When you complete this course\, you'll walk
  away with strategies for increasing employee job satisfaction and trust.
  You'll also gain a deeper understanding of how to develop a lasting and 
 meaningful culture that encourages employees to stay.&lt;/p&gt;&lt;/body&gt;&lt;/html&gt;
DTSTART;TZID=America/Chicago:20231114T090000
DTEND;TZID=America/Chicago:20231114T160000
SEQUENCE:0
URL:https://missouri.ecenterdirect.com/events/24773
CATEGORIES:Public
END:VEVENT
END:VCALENDAR