BEGIN:VCALENDAR
VERSION:2.0
METHOD:PUBLISH
PRODID:-//Missouri State University/Calendar of Events//EN
CALSCALE:GREGORIAN
X-WR-TIMEZONE:America/Chicago
BEGIN:VTIMEZONE
TZID:America/Chicago
BEGIN:DAYLIGHT
TZOFFSETFROM:-0600
TZOFFSETTO:-0500
DTSTART:20070311T020000
RRULE:FREQ=YEARLY;BYMONTH=3;BYDAY=2SU
TZNAME:CDT
END:DAYLIGHT
BEGIN:STANDARD
TZOFFSETFROM:-0500
TZOFFSETTO:-0600
DTSTART:20071104T020000
RRULE:FREQ=YEARLY;BYMONTH=11;BYDAY=1SU
TZNAME:CST
END:STANDARD
END:VTIMEZONE
BEGIN:VEVENT
UID:6bf7dc19-bd37-42fb-a8e1-2fb2c442ab79_10068@calendar.missouristate.edu
CREATED:20230901T024507Z
LAST-MODIFIED:20230901T024507Z
LOCATION:Brick City 4
SUMMARY:I’m Sorry for Your Loss ... Meditations on Discomfort and Change E
 xhibit
DESCRIPTION:I’m sorry for your loss … Meditations on Discomfort and Change
 \, a co-curatorial project from Alexandra Chamberlain and Jodi McCoy\, fe
 atures work from Kim Brandt\, Rick Briggenhorst\, Michelle Burdine\, Char
 les Clary and Axelle Kieffe. It explores the myriad of ways we as humans 
 visualize and internalize our experiences with change associated with los
 s.\n\n\nThis exhibit is open Aug. 30-Oct. 6 and will be open for First Fr
 iday Art Walks\, on Sept. 1 and Oct. 6\, 6-9 p.m.
X-ALT-DESC;FMTTYPE=text/html:&lt;html&gt;&lt;head&gt;&lt;title&gt;&lt;/title&gt;&lt;/head&gt;&lt;body&gt;&lt;p&gt;&lt;s
 pan&gt;I’m sorry for your loss … &lt;/span&gt;Meditations on Discomfort and Change
 \, a co-curatorial project from Alexandra Chamberlain and Jodi McCoy\, fe
 atures work from Kim Brandt\, Rick Briggenhorst\, Michelle Burdine\, Char
 les Clary and Axelle Kieffe. It explores the myriad of ways we as humans 
 visualize and internalize our experiences with change associated with los
 s.&lt;/p&gt;\n&lt;p&gt;This exhibit is open Aug. 30-Oct. 6 and will be open for First
  Friday Art Walks\, on Sept. 1 and Oct. 6\, 6-9 p.m.&lt;/p&gt;&lt;/body&gt;&lt;/html&gt;
DTSTART;TZID=America/Chicago:20230830T110000
DTEND;TZID=America/Chicago:20230830T180000
RRULE:FREQ=WEEKLY;BYDAY=MO,TU,WE,TH,FR;UNTIL=20231007
SEQUENCE:0
URL:https://brickcitygallery.missouristate.edu/
CATEGORIES:Public,Alumni,Current Students,Faculty,Future Students,Staff
END:VEVENT
BEGIN:VEVENT
UID:6bf7dc19-bd37-42fb-a8e1-2fb2c442ab79.229279@calendar.missouristate.edu
CREATED:20230901T024507Z
LAST-MODIFIED:20230901T024507Z
LOCATION:Brick City 4
SUMMARY:I’m Sorry for Your Loss ... Meditations on Discomfort and Change E
 xhibit
DESCRIPTION:I’m sorry for your loss … Meditations on Discomfort and Change
 \, a co-curatorial project from Alexandra Chamberlain and Jodi McCoy\, fe
 atures work from Kim Brandt\, Rick Briggenhorst\, Michelle Burdine\, Char
 les Clary and Axelle Kieffe. It explores the myriad of ways we as humans 
 visualize and internalize our experiences with change associated with los
 s.\n\n\nThis exhibit is open Aug. 30-Oct. 6 and will be open for First Fr
 iday Art Walks\, on Sept. 1 and Oct. 6\, 6-9 p.m.
X-ALT-DESC;FMTTYPE=text/html:&lt;html&gt;&lt;head&gt;&lt;title&gt;&lt;/title&gt;&lt;/head&gt;&lt;body&gt;&lt;p&gt;&lt;s
 pan&gt;I’m sorry for your loss … &lt;/span&gt;Meditations on Discomfort and Change
 \, a co-curatorial project from Alexandra Chamberlain and Jodi McCoy\, fe
 atures work from Kim Brandt\, Rick Briggenhorst\, Michelle Burdine\, Char
 les Clary and Axelle Kieffe. It explores the myriad of ways we as humans 
 visualize and internalize our experiences with change associated with los
 s.&lt;/p&gt;\n&lt;p&gt;This exhibit is open Aug. 30-Oct. 6 and will be open for First
  Friday Art Walks\, on Sept. 1 and Oct. 6\, 6-9 p.m.&lt;/p&gt;&lt;/body&gt;&lt;/html&gt;
DTSTART;TZID=America/Chicago:20230901T180000
DTEND;TZID=America/Chicago:20230901T210000
SEQUENCE:0
URL:https://brickcitygallery.missouristate.edu/
CATEGORIES:Public,Alumni,Current Students,Faculty,Future Students,Staff
END:VEVENT
END:VCALENDAR