BEGIN:VCALENDAR
VERSION:2.0
METHOD:PUBLISH
PRODID:-//Missouri State University/Calendar of Events//EN
CALSCALE:GREGORIAN
X-WR-TIMEZONE:America/Chicago
BEGIN:VTIMEZONE
TZID:America/Chicago
BEGIN:DAYLIGHT
TZOFFSETFROM:-0600
TZOFFSETTO:-0500
DTSTART:20070311T020000
RRULE:FREQ=YEARLY;BYMONTH=3;BYDAY=2SU
TZNAME:CDT
END:DAYLIGHT
BEGIN:STANDARD
TZOFFSETFROM:-0500
TZOFFSETTO:-0600
DTSTART:20071104T020000
RRULE:FREQ=YEARLY;BYMONTH=11;BYDAY=1SU
TZNAME:CST
END:STANDARD
END:VTIMEZONE
BEGIN:VEVENT
UID:00000000-0000-0000-0000-000000000000.229281@calendar.missouristate.edu
CREATED:20230828T224553Z
LAST-MODIFIED:20230828T224553Z
LOCATION:To Be Determined
SUMMARY:Golden Bears Reunion
DESCRIPTION:This time-honored Homecoming tradition recognizes Bears who gr
 aduated from Missouri State University 50 or more years ago. The Classes 
 of ’43\, ’48\, ’53\, ’58\, ’63\, ’68\, and 73 will celebrate their milest
 one anniversaries.
X-ALT-DESC;FMTTYPE=text/html:&lt;html&gt;&lt;head&gt;&lt;title&gt;&lt;/title&gt;&lt;/head&gt;&lt;body&gt;&lt;p&gt;Th
 is time-honored Homecoming tradition recognizes Bears who graduated from 
 Missouri State University 50 or more years ago. The Classes of &amp;rsquo\;43
 \, &amp;rsquo\;48\, &amp;rsquo\;53\, &amp;rsquo\;58\, &amp;rsquo\;63\, &amp;rsquo\;68\, and 7
 3 will celebrate their milestone anniversaries.&lt;br&gt;\n&lt;/p&gt;&lt;/body&gt;&lt;/html&gt;
DTSTART;TZID=America/Chicago:20231021T103000
DTEND;TZID=America/Chicago:20231021T130000
SEQUENCE:0
URL:https://missouristate.imodules.com?sid=1691&amp;gid=2&amp;pgid=3263&amp;cid=5659&amp;e
 cid=5659&amp;ciid=19896&amp;crid=0
CATEGORIES:Public,Alumni,Parents and Family,Visitors
END:VEVENT
END:VCALENDAR