BEGIN:VCALENDAR
VERSION:2.0
METHOD:PUBLISH
PRODID:-//Missouri State University/Calendar of Events//EN
CALSCALE:GREGORIAN
X-WR-TIMEZONE:America/Chicago
BEGIN:VTIMEZONE
TZID:America/Chicago
BEGIN:DAYLIGHT
TZOFFSETFROM:-0600
TZOFFSETTO:-0500
DTSTART:20070311T020000
RRULE:FREQ=YEARLY;BYMONTH=3;BYDAY=2SU
TZNAME:CDT
END:DAYLIGHT
BEGIN:STANDARD
TZOFFSETFROM:-0500
TZOFFSETTO:-0600
DTSTART:20071104T020000
RRULE:FREQ=YEARLY;BYMONTH=11;BYDAY=1SU
TZNAME:CST
END:STANDARD
END:VTIMEZONE
BEGIN:VEVENT
UID:7b3db4f4-0a93-4652-9522-c0670ecea8c2.229283@calendar.missouristate.edu
CREATED:20230829T051504Z
LAST-MODIFIED:20230829T051504Z
LOCATION:Springfield\, Killian Stadium
SUMMARY:Missouri State University Softball vs Fort Scott - 10 Innings
DESCRIPTION:Missouri State University Softball plays Fort Scott - 10 Innin
 gs
X-ALT-DESC;FMTTYPE=text/html:&lt;html&gt;&lt;head&gt;&lt;title&gt;&lt;/title&gt;&lt;/head&gt;&lt;body&gt;Misso
 uri State University Softball plays Fort Scott - 10 Innings&lt;/body&gt;&lt;/html&gt;
DTSTART;TZID=America/Chicago:20230910T130000
DTEND;TZID=America/Chicago:20230910T150000
SEQUENCE:0
URL:http://missouristatebears.com/index.aspx?path=softball
CATEGORIES:Current Students,Future Students,Parents and Family,Alumni,
 Faculty,Staff,Community,Visitors,Athletics
END:VEVENT
END:VCALENDAR