BEGIN:VCALENDAR
VERSION:2.0
METHOD:PUBLISH
PRODID:-//Missouri State University/Calendar of Events//EN
CALSCALE:GREGORIAN
X-WR-TIMEZONE:America/Chicago
BEGIN:VTIMEZONE
TZID:America/Chicago
BEGIN:DAYLIGHT
TZOFFSETFROM:-0600
TZOFFSETTO:-0500
DTSTART:20070311T020000
RRULE:FREQ=YEARLY;BYMONTH=3;BYDAY=2SU
TZNAME:CDT
END:DAYLIGHT
BEGIN:STANDARD
TZOFFSETFROM:-0500
TZOFFSETTO:-0600
DTSTART:20071104T020000
RRULE:FREQ=YEARLY;BYMONTH=11;BYDAY=1SU
TZNAME:CST
END:STANDARD
END:VTIMEZONE
BEGIN:VEVENT
UID:92b6314a-cc8d-4cbc-801f-0889033a127a.229291@calendar.missouristate.edu
CREATED:20230901T024744Z
LAST-MODIFIED:20230901T024744Z
LOCATION:Plaster Stadium\, Robert W.
SUMMARY:OZARKO Marching Band Festival
DESCRIPTION:The Pride Band will host the 51st annual Ozarko Marching Band 
 Festival with approximately 30 local and regional high school bands from 
 Missouri\, Oklahoma and Kansas participating in the event.  \n\n\nThe Pri
 de Band will perform in exhibition at the end of preliminary competition.
 \n\n\nThe performance schedule can be found online the week of the event.
X-ALT-DESC;FMTTYPE=text/html:&lt;html&gt;&lt;head&gt;&lt;title&gt;&lt;/title&gt;&lt;/head&gt;&lt;body&gt;&lt;p&gt;Th
 e Pride Band will host the 51st annual Ozarko Marching&amp;nbsp\;Band Festiva
 l with approximately 30 local and regional high school bands from Missour
 i\, Oklahoma and Kansas participating in the event. &amp;nbsp\;&lt;/p&gt;\n&lt;p&gt;The&amp;n
 bsp\;Pride Band will perform in exhibition at the end of preliminary comp
 etition.&lt;/p&gt;\n&lt;p&gt;The&amp;nbsp\;&lt;a href="http://www.missouristate.edu/band"&gt;pe
 rformance schedule can be found online&lt;/a&gt; the week of the event.&lt;/p&gt;&lt;/bo
 dy&gt;&lt;/html&gt;
DTSTART;VALUE=DATE:20231014
DTEND;VALUE=DATE:20231015
SEQUENCE:0
URL:http://www.missouristate.edu/band
CATEGORIES:Public,Alumni,Current Students,Faculty,Future Students,Staff
END:VEVENT
END:VCALENDAR