BEGIN:VCALENDAR
VERSION:2.0
METHOD:PUBLISH
PRODID:-//Missouri State University/Calendar of Events//EN
CALSCALE:GREGORIAN
X-WR-TIMEZONE:America/Chicago
BEGIN:VTIMEZONE
TZID:America/Chicago
BEGIN:DAYLIGHT
TZOFFSETFROM:-0600
TZOFFSETTO:-0500
DTSTART:20070311T020000
RRULE:FREQ=YEARLY;BYMONTH=3;BYDAY=2SU
TZNAME:CDT
END:DAYLIGHT
BEGIN:STANDARD
TZOFFSETFROM:-0500
TZOFFSETTO:-0600
DTSTART:20071104T020000
RRULE:FREQ=YEARLY;BYMONTH=11;BYDAY=1SU
TZNAME:CST
END:STANDARD
END:VTIMEZONE
BEGIN:VEVENT
UID:3a9df318-6a89-48e9-91f6-c072e20eb515_10069@calendar.missouristate.edu
CREATED:20230830T165118Z
LAST-MODIFIED:20230830T165118Z
LOCATION:
SUMMARY:Enmeshed Worlds\, the Unavoidable Entanglement of Technology and O
 ur Social Order
DESCRIPTION:"Enmeshed Worlds\, the unavoidable entanglement of technology 
 and our social order" features work from Britt Ransom\, Alejandro T. Acie
 rto\, Jon Chambers and Tiffany Funk. Enmeshed Worlds is a critical examin
 ation of how technology affects our social structures and relationships. 
  \n\n\nThis exhibition is open Aug. 30-Sept. 22 with an opening reception
  on Sept. 1 from 6-9 p.m.
X-ALT-DESC;FMTTYPE=text/html:&lt;html&gt;&lt;head&gt;&lt;title&gt;&lt;/title&gt;&lt;/head&gt;&lt;body&gt;&lt;p&gt;"E
 nmeshed Worlds\,&amp;nbsp\;the unavoidable entanglement of technology and our
  social order" features work from Britt Ransom\, Alejandro T. Acierto\, J
 on Chambers and Tiffany Funk. Enmeshed Worlds is a critical examination o
 f how technology affects our social structures and relationships. &amp;nbsp\;
 &lt;/p&gt;\n&lt;p&gt;This exhibition is open Aug. 30-Sept. 22 with an opening recepti
 on on Sept. 1 from 6-9 p.m.&lt;/p&gt;&lt;/body&gt;&lt;/html&gt;
DTSTART;TZID=America/Chicago:20230830T110000
DTEND;TZID=America/Chicago:20230830T180000
RRULE:FREQ=WEEKLY;BYDAY=MO,TU,WE,TH,FR;UNTIL=20230923
EXDATE;TZID=America/Chicago:20230904T110000
SEQUENCE:0
URL:https://galleries.missouristate.edu/Carolla/
CATEGORIES:Public,Alumni,Current Students,Faculty,Future Students,Staff
END:VEVENT
BEGIN:VEVENT
UID:3a9df318-6a89-48e9-91f6-c072e20eb515.229310@calendar.missouristate.edu
CREATED:20230830T165118Z
LAST-MODIFIED:20230830T165118Z
LOCATION:
SUMMARY:Enmeshed Worlds\, the Unavoidable Entanglement of Technology and O
 ur Social Order
DESCRIPTION:"Enmeshed Worlds\, the unavoidable entanglement of technology 
 and our social order" features work from Britt Ransom\, Alejandro T. Acie
 rto\, Jon Chambers and Tiffany Funk. Enmeshed Worlds is a critical examin
 ation of how technology affects our social structures and relationships. 
  \n\n\nThis exhibition is open Aug. 30-Sept. 22 with an opening reception
  on Sept. 1 from 6-9 p.m.
X-ALT-DESC;FMTTYPE=text/html:&lt;html&gt;&lt;head&gt;&lt;title&gt;&lt;/title&gt;&lt;/head&gt;&lt;body&gt;&lt;p&gt;"E
 nmeshed Worlds\,&amp;nbsp\;the unavoidable entanglement of technology and our
  social order" features work from Britt Ransom\, Alejandro T. Acierto\, J
 on Chambers and Tiffany Funk. Enmeshed Worlds is a critical examination o
 f how technology affects our social structures and relationships. &amp;nbsp\;
 &lt;/p&gt;\n&lt;p&gt;This exhibition is open Aug. 30-Sept. 22 with an opening recepti
 on on Sept. 1 from 6-9 p.m.&lt;/p&gt;&lt;/body&gt;&lt;/html&gt;
DTSTART;TZID=America/Chicago:20230901T180000
DTEND;TZID=America/Chicago:20230901T210000
SEQUENCE:0
URL:https://galleries.missouristate.edu/Carolla/
CATEGORIES:Public,Alumni,Current Students,Faculty,Future Students,Staff
END:VEVENT
END:VCALENDAR