BEGIN:VCALENDAR
VERSION:2.0
METHOD:PUBLISH
PRODID:-//Missouri State University/Calendar of Events//EN
CALSCALE:GREGORIAN
X-WR-TIMEZONE:America/Chicago
BEGIN:VTIMEZONE
TZID:America/Chicago
BEGIN:DAYLIGHT
TZOFFSETFROM:-0600
TZOFFSETTO:-0500
DTSTART:20070311T020000
RRULE:FREQ=YEARLY;BYMONTH=3;BYDAY=2SU
TZNAME:CDT
END:DAYLIGHT
BEGIN:STANDARD
TZOFFSETFROM:-0500
TZOFFSETTO:-0600
DTSTART:20071104T020000
RRULE:FREQ=YEARLY;BYMONTH=11;BYDAY=1SU
TZNAME:CST
END:STANDARD
END:VTIMEZONE
BEGIN:VEVENT
UID:00000000-0000-0000-0000-000000000000.229313@calendar.missouristate.edu
CREATED:20230830T194552Z
LAST-MODIFIED:20230830T194552Z
LOCATION:To Be Determined
SUMMARY:MSU Alumni Day at Silver Dollar City
DESCRIPTION:Join fellow Bears and friends of the Springfield Alumni Chapte
 r for MSU Alumni Day at Silver Dollar City on October 15. Experience the 
 limited-time Harvest Festival featuring thousands of illuminated pumpkins
  and delicious fall flavors for non-frightful fun. Ride record-breaking c
 oasters and enjoy festival entertainment at the 1880s theme park. Plus\, 
 gather for an ice cream social with fellow Bears and their families.
X-ALT-DESC;FMTTYPE=text/html:&lt;html&gt;&lt;head&gt;&lt;title&gt;&lt;/title&gt;&lt;/head&gt;&lt;body&gt;Join 
 fellow Bears and friends of the Springfield Alumni Chapter for MSU Alumni
  Day at Silver Dollar City on October 15. Experience the limited-time Har
 vest Festival featuring thousands of illuminated pumpkins and delicious f
 all flavors for non-frightful fun. Ride record-breaking coasters and enjo
 y festival entertainment at the 1880s theme park. Plus\, gather for an ic
 e cream social with fellow Bears and their families.&lt;/body&gt;&lt;/html&gt;
DTSTART;TZID=America/Chicago:20231015T090000
DTEND;TZID=America/Chicago:20231015T210000
SEQUENCE:0
URL:https://missouristate.imodules.com?sid=1691&amp;gid=2&amp;pgid=3275&amp;cid=5680&amp;e
 cid=5680&amp;ciid=19831&amp;crid=0
CATEGORIES:Public,Alumni,Parents and Family,Visitors
END:VEVENT
END:VCALENDAR