BEGIN:VCALENDAR
VERSION:2.0
METHOD:PUBLISH
PRODID:-//Missouri State University/Calendar of Events//EN
CALSCALE:GREGORIAN
X-WR-TIMEZONE:America/Chicago
BEGIN:VTIMEZONE
TZID:America/Chicago
BEGIN:DAYLIGHT
TZOFFSETFROM:-0600
TZOFFSETTO:-0500
DTSTART:20070311T020000
RRULE:FREQ=YEARLY;BYMONTH=3;BYDAY=2SU
TZNAME:CDT
END:DAYLIGHT
BEGIN:STANDARD
TZOFFSETFROM:-0500
TZOFFSETTO:-0600
DTSTART:20071104T020000
RRULE:FREQ=YEARLY;BYMONTH=11;BYDAY=1SU
TZNAME:CST
END:STANDARD
END:VTIMEZONE
BEGIN:VEVENT
UID:1230ff84-3c98-4675-88c5-3b68c0e5050e_10070@calendar.missouristate.edu
CREATED:20230831T201616Z
LAST-MODIFIED:20230831T201616Z
LOCATION:Meyer Library\, Duane G. Bear CLAW (Center for Learning and Writi
 ng)
SUMMARY:Writing Center: In-Person &amp; Online Appointments Begin
DESCRIPTION:Writing Consultants can assist you with your writing needs.\n\
 n\nScheduling in advance is recommended\, but in-person walk-ins are welc
 ome! \n\n\n\n\n\nFor more information &amp; to book an appointment\, visit ou
 r homepage.
X-ALT-DESC;FMTTYPE=text/html:&lt;html&gt;&lt;head&gt;&lt;title&gt;&lt;/title&gt;&lt;/head&gt;&lt;body&gt;&lt;p&gt;&lt;b
 &gt;&lt;span&gt;Writing Consultants can assist you with your writing needs.&lt;/span&gt;
 &lt;/b&gt;&lt;/p&gt;\n&lt;p&gt;&lt;span&gt;Scheduling in advance is recommended\, but in-person w
 alk-ins are welcome! &lt;/span&gt;&lt;b&gt;&lt;span&gt;&lt;/span&gt;&lt;/b&gt;&lt;/p&gt;\n&lt;p&gt;&lt;/p&gt;\n&lt;p&gt;&lt;span&gt;F
 or more information &amp;amp\; to book an appointment\, visit our&lt;a href="htt
 ps://writingcenter.missouristate.edu/writing-consultations.htm"&gt; homepage
 &lt;/a&gt;.&lt;/span&gt;&lt;/p&gt;&lt;/body&gt;&lt;/html&gt;
DTSTART;VALUE=DATE:20230905
DTEND;VALUE=DATE:20230906
RRULE:FREQ=WEEKLY;BYDAY=MO,TU,WE,TH,FR;UNTIL=20231208
SEQUENCE:0
URL:https://writingcenter.missouristate.edu/writing-consultations.htm
CATEGORIES:Current Students,Faculty,Staff
END:VEVENT
END:VCALENDAR