BEGIN:VCALENDAR
VERSION:2.0
METHOD:PUBLISH
PRODID:-//Missouri State University/Calendar of Events//EN
CALSCALE:GREGORIAN
X-WR-TIMEZONE:America/Chicago
BEGIN:VTIMEZONE
TZID:America/Chicago
BEGIN:DAYLIGHT
TZOFFSETFROM:-0600
TZOFFSETTO:-0500
DTSTART:20070311T020000
RRULE:FREQ=YEARLY;BYMONTH=3;BYDAY=2SU
TZNAME:CDT
END:DAYLIGHT
BEGIN:STANDARD
TZOFFSETFROM:-0500
TZOFFSETTO:-0600
DTSTART:20071104T020000
RRULE:FREQ=YEARLY;BYMONTH=11;BYDAY=1SU
TZNAME:CST
END:STANDARD
END:VTIMEZONE
BEGIN:VEVENT
UID:9059ec1e-6fae-42ee-884f-0cccfe3aae80.229393@calendar.missouristate.edu
CREATED:20230906T195001Z
LAST-MODIFIED:20230906T195001Z
LOCATION:Roy Blunt Hall 345
SUMMARY:GGP Seminar: "Public Policy to address Physical Determinants of He
 alth Case Studies of Cannabis Exposure and Food Access"
DESCRIPTION:Dr. Bryce Lowery will make a presentation on the potential for
  public policy to influence the built environment to improve well-being a
 nd alleviate health disparities observed between neighborhoods. In this t
 alk\, he will explore relationships between two physical determinants of 
 health\, cannabis dispensaries and food stores\, to illustrate ways land 
 use and municipal policy might be employed to address spatial disparities
  and improve the well-being of communities. While public health and plann
 ing researchers and practitioners acknowledge the importance of context\,
  there is still inadequate understanding about how\, when\, where\, and f
 or whom the built environment affects health outcomes.\n\n\nDr. Lowery is
  an associate professor of planning\, landscape architecture and design a
 t the University of Oklahoma Gibbs College of Architecture. He teaches ge
 ographic information systems for land use planning\, land use planning an
 d public policy for cannabis\, public health and the built environment\, 
 and urban design theory. He researches environmental and socioeconomic in
 fluences of neighborhood well-being as well as land use and municipal pol
 icies that aim to improve community health. He is particularly intersted 
 in two areas of inquiry: undertanding how availability and access to sour
 ces of healthy and unhealthy food contribute to diet related disease and 
 exploring how the spatial arrangement of cannabis dispensaries and advert
 ising influence health related behavior. His research focuses on spatial 
 injustices experienced by rural and low-income neighborhoods as well as A
 sian\, American\, Indian\, Alaskan Native\, Black\, and Latine communitie
 s. For more inforamation on his work\, visit brycelowery.com. 
X-ALT-DESC;FMTTYPE=text/html:&lt;html&gt;&lt;head&gt;&lt;title&gt;&lt;/title&gt;&lt;/head&gt;&lt;body&gt;&lt;p&gt;Dr
 . Bryce Lowery will make a presentation on the potential for public polic
 y to influence the built environment to improve well-being and alleviate 
 health disparities observed between neighborhoods. In this talk\, he will
  explore relationships between two physical determinants of health\, cann
 abis dispensaries and food stores\, to illustrate ways land use and munic
 ipal policy might be employed to address spatial disparities and improve 
 the well-being of communities. While public health and planning researche
 rs and practitioners acknowledge the importance of context\, there is sti
 ll inadequate understanding about how\, when\, where\, and for whom the b
 uilt environment affects health outcomes.&lt;/p&gt;\n&lt;p&gt;Dr. Lowery is an associ
 ate professor of planning\, landscape architecture and design at the Univ
 ersity of Oklahoma Gibbs College of Architecture. He teaches geographic i
 nformation systems for land use planning\, land use planning and public p
 olicy for cannabis\, public health and the built environment\, and urban 
 design theory. He researches environmental and socioeconomic influences o
 f neighborhood well-being as well as land use and municipal policies that
  aim to improve community health. He is particularly intersted in two are
 as of inquiry: undertanding how availability and access to sources of hea
 lthy and unhealthy food contribute to diet related disease and exploring 
 how the spatial arrangement of cannabis dispensaries and advertising infl
 uence health related behavior. His research focuses on spatial injustices
  experienced by rural and low-income neighborhoods as well as Asian\, Ame
 rican\, Indian\, Alaskan Native\, Black\, and Latine communities. For mor
 e inforamation on his work\, visit &lt;a href="https://www.bing.com/ck/a?!&amp;a
 mp\;&amp;amp\;p=8d25795c742a058fJmltdHM9MTY5MzUyNjQwMCZpZ3VpZD0yN2ZlM2VlMy05Y
 jNjLTYwMGItMThhOC0yZDk4OWE1MzYxMTcmaW5zaWQ9NTE4Ng&amp;amp\;ptn=3&amp;amp\;hsh=3&amp;a
 mp\;fclid=27fe3ee3-9b3c-600b-18a8-2d989a536117&amp;amp\;psq=Bryce+Lowery.com&amp;
 amp\;u=a1aHR0cHM6Ly9icnljZWxvd2VyeS5jb20v&amp;amp\;ntb=1"&gt;brycelowery.com&lt;/a&gt;
 .&amp;nbsp\;&lt;/p&gt;&lt;/body&gt;&lt;/html&gt;
DTSTART;TZID=America/Chicago:20230915T143000
DTEND;TZID=America/Chicago:20230915T153000
SEQUENCE:0
URL:http://www.geosciences.missouristate.edu
CATEGORIES:Public,Current Students,Faculty
END:VEVENT
END:VCALENDAR