BEGIN:VCALENDAR
VERSION:2.0
METHOD:PUBLISH
PRODID:-//Missouri State University/Calendar of Events//EN
CALSCALE:GREGORIAN
X-WR-TIMEZONE:America/Chicago
BEGIN:VTIMEZONE
TZID:America/Chicago
BEGIN:DAYLIGHT
TZOFFSETFROM:-0600
TZOFFSETTO:-0500
DTSTART:20070311T020000
RRULE:FREQ=YEARLY;BYMONTH=3;BYDAY=2SU
TZNAME:CDT
END:DAYLIGHT
BEGIN:STANDARD
TZOFFSETFROM:-0500
TZOFFSETTO:-0600
DTSTART:20071104T020000
RRULE:FREQ=YEARLY;BYMONTH=11;BYDAY=1SU
TZNAME:CST
END:STANDARD
END:VTIMEZONE
BEGIN:VEVENT
UID:604bb711-6aa9-4ca9-b808-e596b6d59290.229394@calendar.missouristate.edu
CREATED:20230905T145346Z
LAST-MODIFIED:20230905T145346Z
LOCATION:https://us02web.zoom.us/j/84352649819
SUMMARY:Board of Governors Special Meeting
DESCRIPTION:The Missouri State University Board of Governors will hold a s
 pecial meeting via Zoom webinar. This was previously scheduled as an Exec
 utive Committee meeting.\n\n\nMeeting agendas can be found here: \n\n\n\n
 https://www.missouristate.edu/BOG/Agendas/
X-ALT-DESC;FMTTYPE=text/html:&lt;html&gt;&lt;head&gt;&lt;title&gt;&lt;/title&gt;&lt;/head&gt;&lt;body&gt;&lt;p&gt;Th
 e Missouri State University Board of Governors will hold a special meetin
 g via Zoom webinar. This was previously scheduled as an Executive Committ
 ee meeting.&lt;/p&gt;\n&lt;p&gt;Meeting agendas can be found here:&amp;nbsp\;&lt;/p&gt;\n&lt;ul&gt;\n
 &lt;li&gt;&lt;span color="#0a0a0a"&gt;&lt;a href="https://www.missouristate.edu/BOG/Agen
 das/"&gt;https://www.missouristate.edu/BOG/Agendas/&lt;/a&gt;&lt;/span&gt;&lt;/li&gt;\n&lt;/ul&gt;&lt;/
 body&gt;&lt;/html&gt;
DTSTART;TZID=America/Chicago:20230920T160000
DTEND;TZID=America/Chicago:20230920T173000
SEQUENCE:0
URL:https://www.missouristate.edu/BOG/
CATEGORIES:Public,Alumni,Current Students,Faculty,Future Students,Staff
END:VEVENT
END:VCALENDAR