BEGIN:VCALENDAR
VERSION:2.0
METHOD:PUBLISH
PRODID:-//Missouri State University/Calendar of Events//EN
CALSCALE:GREGORIAN
X-WR-TIMEZONE:America/Chicago
BEGIN:VTIMEZONE
TZID:America/Chicago
BEGIN:DAYLIGHT
TZOFFSETFROM:-0600
TZOFFSETTO:-0500
DTSTART:20070311T020000
RRULE:FREQ=YEARLY;BYMONTH=3;BYDAY=2SU
TZNAME:CDT
END:DAYLIGHT
BEGIN:STANDARD
TZOFFSETFROM:-0500
TZOFFSETTO:-0600
DTSTART:20071104T020000
RRULE:FREQ=YEARLY;BYMONTH=11;BYDAY=1SU
TZNAME:CST
END:STANDARD
END:VTIMEZONE
BEGIN:VEVENT
UID:ec305a20-18ed-4047-b713-9f7ef4fc79ca.229397@calendar.missouristate.edu
CREATED:20230908T195127Z
LAST-MODIFIED:20230908T195127Z
LOCATION:Plaster Student Union\, Robert W. PSU Remembrance Lounge\, 2nd Fl
 oor
SUMMARY:Traditions Check-In Table
DESCRIPTION:Download the "Traditions Bearer" app and log your completed tr
 aditions to start earning prizes and get free food! 
X-ALT-DESC;FMTTYPE=text/html:&lt;html&gt;&lt;head&gt;&lt;title&gt;&lt;/title&gt;&lt;/head&gt;&lt;body&gt;&lt;p&gt;Do
 wnload the "Traditions Bearer" app and log your completed traditions to s
 tart earning prizes and get free food!&amp;nbsp\;&lt;/p&gt;&lt;/body&gt;&lt;/html&gt;
DTSTART;TZID=America/Chicago:20230912T110000
DTEND;TZID=America/Chicago:20230912T130000
SEQUENCE:0
URL:120097.jpg
CATEGORIES:Current Students
END:VEVENT
END:VCALENDAR