BEGIN:VCALENDAR
VERSION:2.0
METHOD:PUBLISH
PRODID:-//Missouri State University/Calendar of Events//EN
CALSCALE:GREGORIAN
X-WR-TIMEZONE:America/Chicago
BEGIN:VTIMEZONE
TZID:America/Chicago
BEGIN:DAYLIGHT
TZOFFSETFROM:-0600
TZOFFSETTO:-0500
DTSTART:20070311T020000
RRULE:FREQ=YEARLY;BYMONTH=3;BYDAY=2SU
TZNAME:CDT
END:DAYLIGHT
BEGIN:STANDARD
TZOFFSETFROM:-0500
TZOFFSETTO:-0600
DTSTART:20071104T020000
RRULE:FREQ=YEARLY;BYMONTH=11;BYDAY=1SU
TZNAME:CST
END:STANDARD
END:VTIMEZONE
BEGIN:VEVENT
UID:fe803e2e-ffe9-4086-9500-5b6eb5ab70d4.229398@calendar.missouristate.edu
CREATED:20230907T174049Z
LAST-MODIFIED:20230907T174049Z
LOCATION:Pummill Hall 205
SUMMARY:Writing for Business Workshop
DESCRIPTION:In the workplace\, your communication skills—both written and 
 verbal—can help or hinder your performance. Whether it is writing a repor
 t or delivering a presentation\, your ability to convey ideas and message
 s clearly\, succinctly and with conviction establishes a connection with 
 others and leaves a positive impression. This 90-minute workshop will hel
 p you communicate better in conversations\, presentations\, letters\, ema
 ils and reports.\n\n\nFacilitator: Emily Yeap
X-ALT-DESC;FMTTYPE=text/html:&lt;html&gt;&lt;head&gt;&lt;title&gt;&lt;/title&gt;&lt;/head&gt;&lt;body&gt;&lt;p&gt;In
  the workplace\, your communication skills—both written and verbal—can he
 lp or hinder your performance. Whether it is writing a report or deliveri
 ng a presentation\, your ability to convey ideas and messages clearly\, s
 uccinctly and with conviction establishes a connection with others and le
 aves a positive impression. This 90-minute workshop will help you communi
 cate better in conversations\, presentations\, letters\, emails and repor
 ts.&lt;/p&gt;\n&lt;p&gt;Facilitator: Emily Yeap&lt;/p&gt;&lt;/body&gt;&lt;/html&gt;
DTSTART;TZID=America/Chicago:20231108T130000
DTEND;TZID=America/Chicago:20231108T143000
SEQUENCE:0
URL:https://blogs.missouristate.edu/human/2023/08/31/learn-to-lead-with-ou
 r-power-skills-series-this-fall/
CATEGORIES:Faculty,Staff
END:VEVENT
END:VCALENDAR