BEGIN:VCALENDAR
VERSION:2.0
METHOD:PUBLISH
PRODID:-//Missouri State University/Calendar of Events//EN
CALSCALE:GREGORIAN
X-WR-TIMEZONE:America/Chicago
BEGIN:VTIMEZONE
TZID:America/Chicago
BEGIN:DAYLIGHT
TZOFFSETFROM:-0600
TZOFFSETTO:-0500
DTSTART:20070311T020000
RRULE:FREQ=YEARLY;BYMONTH=3;BYDAY=2SU
TZNAME:CDT
END:DAYLIGHT
BEGIN:STANDARD
TZOFFSETFROM:-0500
TZOFFSETTO:-0600
DTSTART:20071104T020000
RRULE:FREQ=YEARLY;BYMONTH=11;BYDAY=1SU
TZNAME:CST
END:STANDARD
END:VTIMEZONE
BEGIN:VEVENT
UID:4192c27b-b2c1-4cc1-8708-ea26774fc716.229400@calendar.missouristate.edu
CREATED:20230906T214713Z
LAST-MODIFIED:20230906T214713Z
LOCATION:Plaster Student Union\, Robert W. 400 - Union Club
SUMMARY:President and Students Inclusivity Discussion
DESCRIPTION:Come and be a part of the change! Engage in discussion with pe
 ers\, student leaders\, university administrators and President Smart. Th
 e topic will cover the implementation of the new Inclusivity Principles a
 nd your student experience. Please plan to join the conversation.
X-ALT-DESC;FMTTYPE=text/html:&lt;html&gt;&lt;head&gt;&lt;title&gt;&lt;/title&gt;&lt;/head&gt;&lt;body&gt;&lt;p&gt;Co
 me and be a part of the change! Engage in discussion with peers\, student
  leaders\, university administrators and President Smart. The topic will 
 cover the implementation of the new Inclusivity Principles and your stude
 nt experience. Please plan to join the conversation.&lt;/p&gt;\n&lt;p&gt;&lt;/p&gt;&lt;/body&gt;&lt;
 /html&gt;
DTSTART;TZID=America/Chicago:20231025T153000
DTEND;TZID=America/Chicago:20231025T170000
SEQUENCE:0
URL:https://multicultural.missouristate.edu/
CATEGORIES:Alumni,Current Students,Faculty,Staff
END:VEVENT
END:VCALENDAR