BEGIN:VCALENDAR
VERSION:2.0
METHOD:PUBLISH
PRODID:-//Missouri State University/Calendar of Events//EN
CALSCALE:GREGORIAN
X-WR-TIMEZONE:America/Chicago
BEGIN:VTIMEZONE
TZID:America/Chicago
BEGIN:DAYLIGHT
TZOFFSETFROM:-0600
TZOFFSETTO:-0500
DTSTART:20070311T020000
RRULE:FREQ=YEARLY;BYMONTH=3;BYDAY=2SU
TZNAME:CDT
END:DAYLIGHT
BEGIN:STANDARD
TZOFFSETFROM:-0500
TZOFFSETTO:-0600
DTSTART:20071104T020000
RRULE:FREQ=YEARLY;BYMONTH=11;BYDAY=1SU
TZNAME:CST
END:STANDARD
END:VTIMEZONE
BEGIN:VEVENT
UID:00000000-0000-0000-0000-000000000000.229402@calendar.missouristate.edu
CREATED:20230906T224506Z
LAST-MODIFIED:20230906T224506Z
LOCATION:To Be Determined
SUMMARY:imods error test
DESCRIPTION:This time-honored Homecoming tradition recognizes Bears who gr
 aduated from Missouri State University 50 or more years ago. The Classes 
 of ’42\, ’47\, ’52\, ’57\, ’62\, ’67 will celebrate their milestone anniv
 ersaries.
X-ALT-DESC;FMTTYPE=text/html:&lt;html&gt;&lt;head&gt;&lt;title&gt;&lt;/title&gt;&lt;/head&gt;&lt;body&gt;&lt;p&gt;Th
 is time-honored Homecoming tradition recognizes Bears who graduated from 
 Missouri State University 50 or more years ago. The Classes of &amp;rsquo\;42
 \, &amp;rsquo\;47\, &amp;rsquo\;52\, &amp;rsquo\;57\, &amp;rsquo\;62\, &amp;rsquo\;67 will ce
 lebrate their milestone anniversaries.&lt;br&gt;\n&lt;/p&gt;&lt;/body&gt;&lt;/html&gt;
DTSTART;TZID=America/Chicago:20230906T000000
DTEND;TZID=America/Chicago:20230906T000000
SEQUENCE:0
URL:https://missouristate.imodules.com?sid=1691&amp;gid=2&amp;pgid=3317&amp;cid=5775&amp;e
 cid=5775&amp;ciid=19441&amp;crid=0
CATEGORIES:Public,Alumni,Parents and Family,Visitors
END:VEVENT
END:VCALENDAR