BEGIN:VCALENDAR
VERSION:2.0
METHOD:PUBLISH
PRODID:-//Missouri State University/Calendar of Events//EN
CALSCALE:GREGORIAN
X-WR-TIMEZONE:America/Chicago
BEGIN:VTIMEZONE
TZID:America/Chicago
BEGIN:DAYLIGHT
TZOFFSETFROM:-0600
TZOFFSETTO:-0500
DTSTART:20070311T020000
RRULE:FREQ=YEARLY;BYMONTH=3;BYDAY=2SU
TZNAME:CDT
END:DAYLIGHT
BEGIN:STANDARD
TZOFFSETFROM:-0500
TZOFFSETTO:-0600
DTSTART:20071104T020000
RRULE:FREQ=YEARLY;BYMONTH=11;BYDAY=1SU
TZNAME:CST
END:STANDARD
END:VTIMEZONE
BEGIN:VEVENT
UID:45334197-b54f-4512-a05e-49e5e998208b.229404@calendar.missouristate.edu
CREATED:20230907T203308Z
LAST-MODIFIED:20230907T203308Z
LOCATION:Plaster Student Union\, Robert W. Theater
SUMMARY:State of the University Address
DESCRIPTION:President Clif Smart will address the university community.\n\
 n\nThis event is in person and on Zoom. 
X-ALT-DESC;FMTTYPE=text/html:&lt;html&gt;&lt;head&gt;&lt;title&gt;&lt;/title&gt;&lt;/head&gt;&lt;body&gt;&lt;p&gt;Pr
 esident Clif Smart will address the university community.&lt;/p&gt;\n&lt;p&gt;This ev
 ent&amp;nbsp\;is in person and on &lt;a href="https://us02web.zoom.us/j/86463557
 231"&gt;Zoom&lt;/a&gt;.&amp;nbsp\;&lt;/p&gt;\n&lt;p&gt;&lt;/p&gt;&lt;/body&gt;&lt;/html&gt;
DTSTART;TZID=America/Chicago:20231002T121500
DTEND;TZID=America/Chicago:20231002T133000
SEQUENCE:1
URL:120105.jpg
CATEGORIES:Public,Current Students,Faculty,Staff
END:VEVENT
END:VCALENDAR