BEGIN:VCALENDAR
VERSION:2.0
METHOD:PUBLISH
PRODID:-//Missouri State University/Calendar of Events//EN
CALSCALE:GREGORIAN
X-WR-TIMEZONE:America/Chicago
BEGIN:VTIMEZONE
TZID:America/Chicago
BEGIN:DAYLIGHT
TZOFFSETFROM:-0600
TZOFFSETTO:-0500
DTSTART:20070311T020000
RRULE:FREQ=YEARLY;BYMONTH=3;BYDAY=2SU
TZNAME:CDT
END:DAYLIGHT
BEGIN:STANDARD
TZOFFSETFROM:-0500
TZOFFSETTO:-0600
DTSTART:20071104T020000
RRULE:FREQ=YEARLY;BYMONTH=11;BYDAY=1SU
TZNAME:CST
END:STANDARD
END:VTIMEZONE
BEGIN:VEVENT
UID:00000000-0000-0000-0000-000000000000.229406@calendar.missouristate.edu
CREATED:20230907T214530Z
LAST-MODIFIED:20230907T214530Z
LOCATION:To Be Determined
SUMMARY:St. Louis Alumni Chapter Day at Frankie Martin's Garden
DESCRIPTION:The St. Louis Alumni Chapter is excited to invite Bears\, frie
 nds and families to a day at Frankie Martin’s Garden on September 30! Whe
 ther you choose to stay all day or just stop by\, Bears will enjoy award-
 winning food trucks\, carefully crafted drinks and lawn games. 
X-ALT-DESC;FMTTYPE=text/html:&lt;html&gt;&lt;head&gt;&lt;title&gt;&lt;/title&gt;&lt;/head&gt;&lt;body&gt;&lt;p ti
 tle=""&gt;&lt;span&gt;The St. Louis Alumni Chapter is excited to invite Bears\, fr
 iends and families to a day at Frankie Martin&amp;rsquo\;s Garden on Septembe
 r 30! Whether you choose to stay all day or just stop by\, Bears will enj
 oy award-winning food trucks\, carefully crafted drinks and lawn games.&amp;n
 bsp\;&lt;/span&gt;&lt;br&gt;\n&lt;/p&gt;&lt;/body&gt;&lt;/html&gt;
DTSTART;TZID=America/Chicago:20230930T140000
DTEND;TZID=America/Chicago:20230930T180000
SEQUENCE:0
URL:https://missouristate.imodules.com?sid=1691&amp;gid=2&amp;pgid=3282&amp;cid=5698&amp;e
 cid=5698&amp;ciid=19752&amp;crid=0
CATEGORIES:Public,Alumni,Parents and Family,Visitors
END:VEVENT
END:VCALENDAR