BEGIN:VCALENDAR
VERSION:2.0
METHOD:PUBLISH
PRODID:-//Missouri State University/Calendar of Events//EN
CALSCALE:GREGORIAN
X-WR-TIMEZONE:America/Chicago
BEGIN:VTIMEZONE
TZID:America/Chicago
BEGIN:DAYLIGHT
TZOFFSETFROM:-0600
TZOFFSETTO:-0500
DTSTART:20070311T020000
RRULE:FREQ=YEARLY;BYMONTH=3;BYDAY=2SU
TZNAME:CDT
END:DAYLIGHT
BEGIN:STANDARD
TZOFFSETFROM:-0500
TZOFFSETTO:-0600
DTSTART:20071104T020000
RRULE:FREQ=YEARLY;BYMONTH=11;BYDAY=1SU
TZNAME:CST
END:STANDARD
END:VTIMEZONE
BEGIN:VEVENT
UID:76ee501c-c558-4ced-b57a-db961fcbc44c_10071@calendar.missouristate.edu
CREATED:20230908T191450Z
LAST-MODIFIED:20230908T191450Z
LOCATION:Pummill Hall 404
SUMMARY:Carrie's Cafe - Fall 2023
DESCRIPTION:Dine-in or carryout\n\n\n11:30 a.m.1 p.m.\, Tuesday and Thursd
 ay only\n\n\nGrand Opening - Sept. 21\, 2023\n\n\nLast Day: Nov. 16\, 202
 3\n\n\nClosed: Fall break - Oct. 12\, 2023\n\n\nDine-in: Reservations pre
 ferred\; call 417-836-4409\; walk-ins welcomed\n\n\nCarryout: Place order
  on Carrie's Cafe website 
X-ALT-DESC;FMTTYPE=text/html:&lt;html&gt;&lt;head&gt;&lt;title&gt;&lt;/title&gt;&lt;/head&gt;&lt;body&gt;&lt;p&gt;Di
 ne-in or carryout&lt;/p&gt;\n&lt;p&gt;11:30 a.m.1 p.m.\, Tuesday and Thursday only&lt;/p
 &gt;\n&lt;p&gt;Grand Opening - Sept. 21\, 2023&lt;/p&gt;\n&lt;p&gt;Last Day: Nov. 16\, 2023&lt;/p
 &gt;\n&lt;p&gt;Closed: Fall break - Oct. 12\, 2023&lt;/p&gt;\n&lt;p&gt;Dine-in: Reservations p
 referred\; call 417-836-4409\; walk-ins welcomed&lt;/p&gt;\n&lt;p&gt;Carryout: Place 
 order on&amp;nbsp\;&lt;a href="https://hospitality.missouristate.edu/carries-caf
 e.htm"&gt;Carrie's Cafe&lt;/a&gt; website&amp;nbsp\;&lt;/p&gt;&lt;/body&gt;&lt;/html&gt;
DTSTART;TZID=America/Chicago:20230921T113000
DTEND;TZID=America/Chicago:20230921T130000
RRULE:FREQ=WEEKLY;BYDAY=MO,WE;UNTIL=20231117
EXDATE;TZID=America/Chicago:20231012T113000
SEQUENCE:0
URL:120109.png
CATEGORIES:Public,Alumni,Current Students,Faculty,Future Students,Staff
END:VEVENT
END:VCALENDAR