BEGIN:VCALENDAR
VERSION:2.0
METHOD:PUBLISH
PRODID:-//Missouri State University/Calendar of Events//EN
CALSCALE:GREGORIAN
X-WR-TIMEZONE:America/Chicago
BEGIN:VTIMEZONE
TZID:America/Chicago
BEGIN:DAYLIGHT
TZOFFSETFROM:-0600
TZOFFSETTO:-0500
DTSTART:20070311T020000
RRULE:FREQ=YEARLY;BYMONTH=3;BYDAY=2SU
TZNAME:CDT
END:DAYLIGHT
BEGIN:STANDARD
TZOFFSETFROM:-0500
TZOFFSETTO:-0600
DTSTART:20071104T020000
RRULE:FREQ=YEARLY;BYMONTH=11;BYDAY=1SU
TZNAME:CST
END:STANDARD
END:VTIMEZONE
BEGIN:VEVENT
UID:47471c02-8d02-43d8-b637-da95d0a17cf1.229429@calendar.missouristate.edu
CREATED:20230909T194629Z
LAST-MODIFIED:20230909T194629Z
LOCATION:Plaster Student Union\, Robert W. Ballroom West
SUMMARY:Foreign Language Association of Missouri Fall Conference
DESCRIPTION:The Department of Languages\, Cultures and Religions (LCR) wel
 comes the Foreign Language Association of Missouri Fall Conference to the
  Missouri State Springfield campus\, Oct. 13-14\, 2023.\n\n\nVarious conf
 erence events are scheduled in Siceluff Hall and the Plaster Student Unio
 n over the two days.
X-ALT-DESC;FMTTYPE=text/html:&lt;html&gt;&lt;head&gt;&lt;title&gt;&lt;/title&gt;&lt;/head&gt;&lt;body&gt;&lt;p&gt;Th
 e Department of Languages\, Cultures and Religions (LCR) welcomes the &lt;a 
 href="https://www.flamnet.org/" target="_blank"&gt;Foreign Language Associat
 ion of Missouri&lt;/a&gt;&amp;nbsp\;Fall Conference&amp;nbsp\;to the Missouri State&amp;nbs
 p\;Springfield campus\, Oct. 13-14\, 2023.&lt;/p&gt;\n&lt;p&gt;Various conference eve
 nts are scheduled in Siceluff Hall and the Plaster Student Union over the
  two days.&lt;/p&gt;&lt;/body&gt;&lt;/html&gt;
DTSTART;TZID=America/Chicago:20231013T120000
DTEND;TZID=America/Chicago:20231013T200000
SEQUENCE:0
URL:http://www.flamnet.org
CATEGORIES:Public
END:VEVENT
END:VCALENDAR