BEGIN:VCALENDAR
VERSION:2.0
METHOD:PUBLISH
PRODID:-//Missouri State University/Calendar of Events//EN
CALSCALE:GREGORIAN
X-WR-TIMEZONE:America/Chicago
BEGIN:VTIMEZONE
TZID:America/Chicago
BEGIN:DAYLIGHT
TZOFFSETFROM:-0600
TZOFFSETTO:-0500
DTSTART:20070311T020000
RRULE:FREQ=YEARLY;BYMONTH=3;BYDAY=2SU
TZNAME:CDT
END:DAYLIGHT
BEGIN:STANDARD
TZOFFSETFROM:-0500
TZOFFSETTO:-0600
DTSTART:20071104T020000
RRULE:FREQ=YEARLY;BYMONTH=11;BYDAY=1SU
TZNAME:CST
END:STANDARD
END:VTIMEZONE
BEGIN:VEVENT
UID:37b1b70c-c737-4d94-9ba1-1718a5be18d5.229433@calendar.missouristate.edu
CREATED:20230918T205130Z
LAST-MODIFIED:20230918T205130Z
LOCATION:Cheek Hall 102
SUMMARY:Poet Adam Scheffler's Virtual Reading
DESCRIPTION:Poet Adam Scheffler\, whose collection Heartworm was published
  by MSU's Moon City Press earlier this year\, will visit the campus via Z
 oom to read from his work and answer questions. The virtual event will be
  held in Cheek Hall 102\, where Scheffler will stream in live. Copies of 
 Heartworm will be available for sale.\n\n\nScheffler grew up in Californi
 a. He received his MFA in poetry from the Iowa Writers’ Workshop and his 
 PhD in English from Harvard. His first book of poems—A Dog’s Life—was sel
 ected by Denise Duhamel as the winner of the Jacar Press Poetry Book Cont
 est. His poems have appeared in Narrative\, The Yale Review\, The Common\
 , The American Poetry Review\, The Cincinnati Review\, Verse Daily\, Acad
 emy of American Poets Poem-a-Day\, Moon City Review\, among many other ve
 nues. He teaches in the Harvard College Writing Program. \n\n\n\n\n\nJoin
  via Zoom.
X-ALT-DESC;FMTTYPE=text/html:&lt;html&gt;&lt;head&gt;&lt;title&gt;&lt;/title&gt;&lt;/head&gt;&lt;body&gt;&lt;p&gt;Po
 et Adam Scheffler\, whose collection&amp;nbsp\;&lt;em&gt;Heartworm&amp;nbsp\;&lt;/em&gt;was p
 ublished by MSU's Moon City Press earlier this year\, will &lt;a href="https
 ://missouristate.zoom.us/j/94243888139"&gt;visit the campus via Zoom&lt;/a&gt; to 
 read from his work and answer questions. The virtual event will be held i
 n Cheek Hall 102\, where Scheffler will stream in live. Copies of &lt;i&gt;Hear
 tworm&amp;nbsp\;&lt;/i&gt;will be available for sale.&lt;/p&gt;\n&lt;p&gt;&lt;span&gt;Scheffler grew 
 up in California. He received his MFA in poetry from the Iowa Writers’ Wo
 rkshop and his PhD in English from Harvard. His&amp;nbsp\;first book of poems
 —&lt;/span&gt;&lt;i&gt;A Dog’s Life&lt;/i&gt;&lt;span&gt;—was selected by Denise Duhamel as the w
 inner of the Jacar Press Poetry Book Contest. His poems have appeared in 
 &lt;i&gt;Narrative&lt;/i&gt;\, &lt;i&gt;The Yale Review&lt;/i&gt;\, &lt;i&gt;The Common&lt;/i&gt;\, &lt;i&gt;The Am
 erican Poetry Review&lt;/i&gt;\, &lt;i&gt;The Cincinnati Review&lt;/i&gt;\, &lt;i&gt;Verse Daily&lt;
 /i&gt;\, &lt;i&gt;Academy of American Poets Poem-a-Day&lt;/i&gt;\, &lt;em&gt;Moon City Review&lt;
 /em&gt;\,&amp;nbsp\;among&amp;nbsp\;many other venues. He teaches in the Harvard Col
 lege Writing Program. &lt;br&gt;&lt;/span&gt;&lt;/p&gt;\n&lt;p&gt;&lt;/p&gt;\n&lt;p&gt;&lt;span&gt;&lt;a href="https:/
 /missouristate.zoom.us/j/94243888139"&gt;Join via Zoom&lt;/a&gt;.&lt;/span&gt;&lt;/p&gt;&lt;/body
 &gt;&lt;/html&gt;
DTSTART;TZID=America/Chicago:20230921T190000
DTEND;TZID=America/Chicago:20230921T201500
SEQUENCE:0
URL:https://missouristate.zoom.us/j/94243888139
CATEGORIES:Public
END:VEVENT
END:VCALENDAR