BEGIN:VCALENDAR
VERSION:2.0
METHOD:PUBLISH
PRODID:-//Missouri State University/Calendar of Events//EN
CALSCALE:GREGORIAN
X-WR-TIMEZONE:America/Chicago
BEGIN:VTIMEZONE
TZID:America/Chicago
BEGIN:DAYLIGHT
TZOFFSETFROM:-0600
TZOFFSETTO:-0500
DTSTART:20070311T020000
RRULE:FREQ=YEARLY;BYMONTH=3;BYDAY=2SU
TZNAME:CDT
END:DAYLIGHT
BEGIN:STANDARD
TZOFFSETFROM:-0500
TZOFFSETTO:-0600
DTSTART:20071104T020000
RRULE:FREQ=YEARLY;BYMONTH=11;BYDAY=1SU
TZNAME:CST
END:STANDARD
END:VTIMEZONE
BEGIN:VEVENT
UID:874ca002-2437-4296-bf81-65c59207c68b.229434@calendar.missouristate.edu
CREATED:20230911T200210Z
LAST-MODIFIED:20230911T200210Z
LOCATION:Glass Hall\, David D. 342
SUMMARY:Lights\, Camera Short-Form Video 
DESCRIPTION:Short-form video is all the rage\, but where do I start? This 
 session will cover:\n\n\n\nWhat is short-form video?\nFilming social medi
 a content best practices.\nHow to create a short-form video team and util
 ize students to create content.\n\nSign up for the session through My Lea
 rning Connection.
X-ALT-DESC;FMTTYPE=text/html:&lt;html&gt;&lt;head&gt;&lt;title&gt;&lt;/title&gt;&lt;/head&gt;&lt;body&gt;&lt;p&gt;&lt;s
 pan color="#222222"&gt;Short-form video is all the rage\, but where do I sta
 rt? This session will cover:&lt;/span&gt;&lt;/p&gt;\n&lt;ul&gt;\n&lt;li&gt;&lt;span&gt;What is short-fo
 rm video?&lt;/span&gt;&lt;/li&gt;\n&lt;li&gt;&lt;span&gt;Filming social media content best practi
 ces.&lt;/span&gt;&lt;/li&gt;\n&lt;li&gt;&lt;span&gt;How to create a short-form video team and uti
 lize students to create content.&lt;/span&gt;&lt;/li&gt;\n&lt;/ul&gt;\n&lt;p&gt;Sign up for the s
 ession through My Learning Connection.&lt;/p&gt;&lt;/body&gt;&lt;/html&gt;
DTSTART;TZID=America/Chicago:20231003T090000
DTEND;TZID=America/Chicago:20231003T100000
SEQUENCE:0
URL:https://blogs.missouristate.edu/brand/2023/09/11/marcom-training-week-
 fall-2023/
CATEGORIES:Alumni,Current Students,Faculty,Staff
END:VEVENT
END:VCALENDAR