BEGIN:VCALENDAR
VERSION:2.0
METHOD:PUBLISH
PRODID:-//Missouri State University/Calendar of Events//EN
CALSCALE:GREGORIAN
X-WR-TIMEZONE:America/Chicago
BEGIN:VTIMEZONE
TZID:America/Chicago
BEGIN:DAYLIGHT
TZOFFSETFROM:-0600
TZOFFSETTO:-0500
DTSTART:20070311T020000
RRULE:FREQ=YEARLY;BYMONTH=3;BYDAY=2SU
TZNAME:CDT
END:DAYLIGHT
BEGIN:STANDARD
TZOFFSETFROM:-0500
TZOFFSETTO:-0600
DTSTART:20071104T020000
RRULE:FREQ=YEARLY;BYMONTH=11;BYDAY=1SU
TZNAME:CST
END:STANDARD
END:VTIMEZONE
BEGIN:VEVENT
UID:a02b7804-b52e-4245-9650-dee5000aba1d.229435@calendar.missouristate.edu
CREATED:20230911T200232Z
LAST-MODIFIED:20230911T200232Z
LOCATION:
SUMMARY:Digital Marketing: Reach Your Audience Anywhere (Online Session)
DESCRIPTION:Digital marketing is a phrase you hear often\, but what exactl
 y does it mean and how can you use it for your department or program? In 
 this session\, you’ll learn: \n\n\n\nThe basics of search engine marketin
 g\, social media ads\, geofencing and display.\nHow these tactics can hel
 p you promote your program\, department or event.\nHow Strategic Communic
 ation can help you reach your goals through digital marketing.\nHow to me
 asure the success of a campaign.\n\nThis session is offered via Zoom. Par
 ticipants will receive a Zoom link by email. \n\n\nSign up for the sessio
 n through My Learning Connection.
X-ALT-DESC;FMTTYPE=text/html:&lt;html&gt;&lt;head&gt;&lt;title&gt;&lt;/title&gt;&lt;/head&gt;&lt;body&gt;&lt;p&gt;Di
 gital marketing is a phrase you hear often\, but what exactly does it mea
 n and how can you use it for your department or program? In this session\
 , you’ll learn:&amp;nbsp\;&lt;/p&gt;\n&lt;ul&gt;\n&lt;li&gt;The basics of search engine marketi
 ng\, social media ads\, geofencing and display.&lt;/li&gt;\n&lt;li&gt;How these tacti
 cs can help you promote your program\, department or event.&lt;/li&gt;\n&lt;li&gt;How
  Strategic Communication can help you reach your goals through digital ma
 rketing.&lt;/li&gt;\n&lt;li&gt;How to measure the success of a campaign.&lt;/li&gt;\n&lt;/ul&gt;\
 n&lt;p&gt;This session is offered via Zoom. Participants will receive a Zoom li
 nk by email.&amp;nbsp\;&lt;/p&gt;\n&lt;p&gt;Sign up for the session through My Learning C
 onnection.&lt;/p&gt;&lt;/body&gt;&lt;/html&gt;
DTSTART;TZID=America/Chicago:20231003T110000
DTEND;TZID=America/Chicago:20231003T120000
SEQUENCE:0
URL:https://blogs.missouristate.edu/brand/2023/09/11/marcom-training-week-
 fall-2023/
CATEGORIES:Alumni,Current Students,Faculty,Staff
END:VEVENT
END:VCALENDAR