BEGIN:VCALENDAR
VERSION:2.0
METHOD:PUBLISH
PRODID:-//Missouri State University/Calendar of Events//EN
CALSCALE:GREGORIAN
X-WR-TIMEZONE:America/Chicago
BEGIN:VTIMEZONE
TZID:America/Chicago
BEGIN:DAYLIGHT
TZOFFSETFROM:-0600
TZOFFSETTO:-0500
DTSTART:20070311T020000
RRULE:FREQ=YEARLY;BYMONTH=3;BYDAY=2SU
TZNAME:CDT
END:DAYLIGHT
BEGIN:STANDARD
TZOFFSETFROM:-0500
TZOFFSETTO:-0600
DTSTART:20071104T020000
RRULE:FREQ=YEARLY;BYMONTH=11;BYDAY=1SU
TZNAME:CST
END:STANDARD
END:VTIMEZONE
BEGIN:VEVENT
UID:9b7bf8d0-ab68-4de3-b4cd-a530590aa527.229436@calendar.missouristate.edu
CREATED:20230911T200623Z
LAST-MODIFIED:20230911T200623Z
LOCATION:Glass Hall\, David D. 342
SUMMARY:How to Sound Like Missouri State
DESCRIPTION:Writing clearly\, concisely and according to Missouri State Un
 iversity’s brand standard is important. In this session\, you'll learn:\n
 \n\n\nHow to write about Missouri State within brand.\nAbout the assistan
 ce available within the brand website.\nWhat style to use when writing fo
 r the university.\nBest practices for readability and accessibility.\nBlo
 gging tips and hacks for making your online post the best it can be.\n\n\
 nSign up for the session through My Learning Connection.
X-ALT-DESC;FMTTYPE=text/html:&lt;html&gt;&lt;head&gt;&lt;title&gt;&lt;/title&gt;&lt;/head&gt;&lt;body&gt;&lt;p&gt;&lt;s
 pan&gt;Writing clearly\, concisely and according to Missouri State Universit
 y’s brand standard is important. In this session\, &lt;/span&gt;&lt;span&gt;you'll le
 arn:&lt;/span&gt;&lt;/p&gt;\n&lt;ul&gt;\n&lt;li&gt;&lt;span&gt;How to write about Missouri State within
  brand.&lt;/span&gt;&lt;/li&gt;\n&lt;li&gt;&lt;span&gt;About the assistance available within the 
 brand website.&lt;/span&gt;&lt;/li&gt;\n&lt;li&gt;&lt;span&gt;What style to use when writing for 
 the university.&lt;/span&gt;&lt;/li&gt;\n&lt;li&gt;&lt;span&gt;Best practices for readability and
  accessibility.&lt;/span&gt;&lt;/li&gt;\n&lt;li&gt;&lt;span&gt;Blogging tips and hacks for making
  your online post the best it can be.&lt;/span&gt;&lt;/li&gt;\n&lt;/ul&gt;\n&lt;ul type="disc"
 &gt;&lt;/ul&gt;\n&lt;p&gt;&lt;span&gt;Sign up for the session through My Learning Connection.&lt;
 /span&gt;&lt;/p&gt;&lt;/body&gt;&lt;/html&gt;
DTSTART;TZID=America/Chicago:20231003T150000
DTEND;TZID=America/Chicago:20231003T160000
SEQUENCE:0
URL:https://blogs.missouristate.edu/brand/2023/09/11/marcom-training-week-
 fall-2023/
CATEGORIES:Alumni,Current Students,Faculty,Staff
END:VEVENT
END:VCALENDAR