BEGIN:VCALENDAR
VERSION:2.0
METHOD:PUBLISH
PRODID:-//Missouri State University/Calendar of Events//EN
CALSCALE:GREGORIAN
X-WR-TIMEZONE:America/Chicago
BEGIN:VTIMEZONE
TZID:America/Chicago
BEGIN:DAYLIGHT
TZOFFSETFROM:-0600
TZOFFSETTO:-0500
DTSTART:20070311T020000
RRULE:FREQ=YEARLY;BYMONTH=3;BYDAY=2SU
TZNAME:CDT
END:DAYLIGHT
BEGIN:STANDARD
TZOFFSETFROM:-0500
TZOFFSETTO:-0600
DTSTART:20071104T020000
RRULE:FREQ=YEARLY;BYMONTH=11;BYDAY=1SU
TZNAME:CST
END:STANDARD
END:VTIMEZONE
BEGIN:VEVENT
UID:e41df6b9-54b6-4161-a129-de1a79b4036d.229437@calendar.missouristate.edu
CREATED:20230911T200648Z
LAST-MODIFIED:20230911T200648Z
LOCATION:Glass Hall\, David D. 342
SUMMARY:How to Look Like Missouri State
DESCRIPTION:When designing a print or digital collateral\, it’s important 
 to make visual decisions that execute Missouri State University’s brand p
 latform well. This session will cover:\n\n\n\nBrand visual guidelines.\nW
 hat brand resources are available. \nHow to use university logos and bran
 ding elements.\nBest practices for designing within the brand.\n\nSign up
  for the session through My Learning Connection.
X-ALT-DESC;FMTTYPE=text/html:&lt;html&gt;&lt;head&gt;&lt;title&gt;&lt;/title&gt;&lt;/head&gt;&lt;body&gt;&lt;p&gt;&lt;s
 pan&gt;When designing a print or digital collateral\, it’s important to make
  visual decisions that execute &lt;/span&gt;&lt;span&gt;Missouri State University’s b
 rand platform well. This session will cover:&lt;/span&gt;&lt;/p&gt;\n&lt;ul&gt;\n&lt;li&gt;Brand 
 visual guidelines.&lt;/li&gt;\n&lt;li&gt;What brand resources are available.&amp;nbsp\;&lt;/
 li&gt;\n&lt;li&gt;How to use university logos and branding elements.&lt;/li&gt;\n&lt;li&gt;&lt;sp
 an&gt;Best practices for designing within the brand.&lt;/span&gt;&lt;/li&gt;\n&lt;/ul&gt;\n&lt;p&gt;
 &lt;span&gt;Sign up for the session through My Learning Connection.&lt;/span&gt;&lt;/p&gt;\
 n&lt;p&gt;&lt;/p&gt;&lt;/body&gt;&lt;/html&gt;
DTSTART;TZID=America/Chicago:20231004T090000
DTEND;TZID=America/Chicago:20231004T220000
SEQUENCE:0
URL:https://blogs.missouristate.edu/brand/2023/09/11/marcom-training-week-
 fall-2023/
CATEGORIES:Alumni,Current Students,Faculty,Staff
END:VEVENT
END:VCALENDAR