BEGIN:VCALENDAR
VERSION:2.0
METHOD:PUBLISH
PRODID:-//Missouri State University/Calendar of Events//EN
CALSCALE:GREGORIAN
X-WR-TIMEZONE:America/Chicago
BEGIN:VTIMEZONE
TZID:America/Chicago
BEGIN:DAYLIGHT
TZOFFSETFROM:-0600
TZOFFSETTO:-0500
DTSTART:20070311T020000
RRULE:FREQ=YEARLY;BYMONTH=3;BYDAY=2SU
TZNAME:CDT
END:DAYLIGHT
BEGIN:STANDARD
TZOFFSETFROM:-0500
TZOFFSETTO:-0600
DTSTART:20071104T020000
RRULE:FREQ=YEARLY;BYMONTH=11;BYDAY=1SU
TZNAME:CST
END:STANDARD
END:VTIMEZONE
BEGIN:VEVENT
UID:e4a474ff-60eb-4072-a45c-5acf7e2df8b5.229439@calendar.missouristate.edu
CREATED:20230926T132737Z
LAST-MODIFIED:20230926T132737Z
LOCATION:Glass Hall\, David D. 342
SUMMARY:Hello Omni CMS
DESCRIPTION:Learn how to make your web content shine using the web Content
  Management System (CMS)\, Omni. Whether you're a new website editor or s
 easoned Omni user\, you’ll learn about the tools available to get the mos
 t out of Omni CMS. In this session\, we’ll cover: \n\n\n\nOmni CMS\, the 
 basics.\nThe building blocks\, snippets\, assets and components.\nUsing d
 esign patterns\, the editor’s toolkit.\nMaking your content intuitive and
  accessible.\nBlogs\, the basics.\nHow to get web editor access and suppo
 rt.\nQ&amp;A.\n\nSign up for the session through My Learning Connection.
X-ALT-DESC;FMTTYPE=text/html:&lt;html&gt;&lt;head&gt;&lt;title&gt;&lt;/title&gt;&lt;/head&gt;&lt;body&gt;&lt;p&gt;Le
 arn how to make your web content shine using the web Content Management S
 ystem (CMS)\, Omni. Whether you're a new website editor or seasoned Omni 
 user\, you’ll learn about the tools available to get the most out of Omni
  CMS. In this session\, we’ll cover:&amp;nbsp\;&lt;/p&gt;\n&lt;ul&gt;\n&lt;li&gt;Omni CMS\, the
  basics.&lt;/li&gt;\n&lt;li&gt;The building blocks\, snippets\, assets and components
 .&lt;/li&gt;\n&lt;li&gt;Using design patterns\, the editor’s toolkit.&lt;/li&gt;\n&lt;li&gt;Makin
 g your content intuitive and accessible.&lt;/li&gt;\n&lt;li&gt;Blogs\, the basics.&lt;/l
 i&gt;\n&lt;li&gt;How to get web editor access and support.&lt;/li&gt;\n&lt;li&gt;Q&amp;amp\;A.&lt;/li
 &gt;\n&lt;/ul&gt;\n&lt;p&gt;Sign up for the session through My Learning Connection.&lt;/p&gt;&lt;
 /body&gt;&lt;/html&gt;
DTSTART;TZID=America/Chicago:20231004T130000
DTEND;TZID=America/Chicago:20231004T150000
SEQUENCE:1
URL:https://blogs.missouristate.edu/brand/2023/09/11/marcom-training-week-
 fall-2023/
CATEGORIES:Alumni,Current Students,Faculty,Staff
END:VEVENT
END:VCALENDAR