BEGIN:VCALENDAR
VERSION:2.0
METHOD:PUBLISH
PRODID:-//Missouri State University/Calendar of Events//EN
CALSCALE:GREGORIAN
X-WR-TIMEZONE:America/Chicago
BEGIN:VTIMEZONE
TZID:America/Chicago
BEGIN:DAYLIGHT
TZOFFSETFROM:-0600
TZOFFSETTO:-0500
DTSTART:20070311T020000
RRULE:FREQ=YEARLY;BYMONTH=3;BYDAY=2SU
TZNAME:CDT
END:DAYLIGHT
BEGIN:STANDARD
TZOFFSETFROM:-0500
TZOFFSETTO:-0600
DTSTART:20071104T020000
RRULE:FREQ=YEARLY;BYMONTH=11;BYDAY=1SU
TZNAME:CST
END:STANDARD
END:VTIMEZONE
BEGIN:VEVENT
UID:bca7470b-0640-4f56-92f5-a67b3ea3ab5a.229440@calendar.missouristate.edu
CREATED:20230911T201620Z
LAST-MODIFIED:20230911T201620Z
LOCATION:Glass Hall\, David D. 342
SUMMARY:Making the Most with What You Have (Part 1) - Video Production
DESCRIPTION:In this session\, get a hands-on experience. We’ll set up scen
 arios you have experienced while producing video content and give you ide
 as and suggestions to make your videos better. Bring your questions\, ide
 as and experiences to the discussion\, so we can help you make the most w
 ith what you have. Feel free to bring any gear you use and we can incorpo
 rate that into the session as well. We’ll discuss: \n\n\n\nHow you can be
 tter plan your videos.\nUsing gear you have or items you should consider 
 that might make your production better.\nThe importance of recording good
  video (what are A-roll and B-roll).\nThe importance of recording good au
 dio.\nThings to consider when selecting a location.\nSome tricks to recor
 ding subjects in various environments.\nSome tricks to working with subje
 cts while recording video.\n\nSign up for the session through My Learning
  Connection.
X-ALT-DESC;FMTTYPE=text/html:&lt;html&gt;&lt;head&gt;&lt;title&gt;&lt;/title&gt;&lt;/head&gt;&lt;body&gt;&lt;p&gt;&lt;s
 pan&gt;&lt;span&gt;In this session\, get a hands-on experience. We’ll set up scena
 rios you have experienced while producing video content and give you idea
 s and suggestions to make your videos better. Bring your questions\, idea
 s and experiences to the discussion\, so we can help you make the most wi
 th what you have. Feel free to bring any gear you use and we can incorpor
 ate that into the session as well. &lt;/span&gt;&lt;span&gt;We’ll discuss:&amp;nbsp\;&lt;/sp
 an&gt;&lt;/span&gt;&lt;/p&gt;\n&lt;ul&gt;\n&lt;li&gt;How you can better plan your videos.&lt;/li&gt;\n&lt;li&gt;
 Using gear you have or items you should consider that might make your pro
 duction better.&lt;/li&gt;\n&lt;li&gt;The importance of recording good video (what ar
 e A-roll and B-roll).&lt;/li&gt;\n&lt;li&gt;The importance of recording good audio.&lt;/
 li&gt;\n&lt;li&gt;Things to consider when selecting a location.&lt;/li&gt;\n&lt;li&gt;Some tri
 cks to recording subjects in various environments.&lt;/li&gt;\n&lt;li&gt;Some tricks 
 to working with subjects while recording video.&lt;/li&gt;\n&lt;/ul&gt;\n&lt;p&gt;Sign up f
 or the session through My Learning Connection.&lt;/p&gt;&lt;/body&gt;&lt;/html&gt;
DTSTART;TZID=America/Chicago:20231005T090000
DTEND;TZID=America/Chicago:20231005T100000
SEQUENCE:0
URL:https://blogs.missouristate.edu/brand/2023/09/11/marcom-training-week-
 fall-2023/
CATEGORIES:Alumni,Current Students,Faculty,Staff
END:VEVENT
END:VCALENDAR