BEGIN:VCALENDAR
VERSION:2.0
METHOD:PUBLISH
PRODID:-//Missouri State University/Calendar of Events//EN
CALSCALE:GREGORIAN
X-WR-TIMEZONE:America/Chicago
BEGIN:VTIMEZONE
TZID:America/Chicago
BEGIN:DAYLIGHT
TZOFFSETFROM:-0600
TZOFFSETTO:-0500
DTSTART:20070311T020000
RRULE:FREQ=YEARLY;BYMONTH=3;BYDAY=2SU
TZNAME:CDT
END:DAYLIGHT
BEGIN:STANDARD
TZOFFSETFROM:-0500
TZOFFSETTO:-0600
DTSTART:20071104T020000
RRULE:FREQ=YEARLY;BYMONTH=11;BYDAY=1SU
TZNAME:CST
END:STANDARD
END:VTIMEZONE
BEGIN:VEVENT
UID:8f5c1768-e3df-4c0d-92e1-b70581fef1c7.229441@calendar.missouristate.edu
CREATED:20230911T202129Z
LAST-MODIFIED:20230911T202129Z
LOCATION:Glass Hall\, David D. 342
SUMMARY:Making the Most with What You Have (Part 2) - Video Editing
DESCRIPTION:In this session\, get hands-on experience. We’ll provide an ed
 iting demonstration that will offer ideas and suggestions to make your vi
 deos better. Bring your questions\, ideas and experiences to the discussi
 on\, so we can help you make the most with what you have. We’ll discuss: 
 \n\n\n\nHow to better plan your edits.\nUsing editing software and tools 
 that might make your edits better.\nHow to build a video project.\nWorkin
 g with what you have to tell the story.\nThings to consider when selectin
 g music.\nSome editing tricks to spice up an edit.\nFinishing a project f
 or use on a website vs. social media.\n\nSign up for the session through 
 My Learning Connection.
X-ALT-DESC;FMTTYPE=text/html:&lt;html&gt;&lt;head&gt;&lt;title&gt;&lt;/title&gt;&lt;/head&gt;&lt;body&gt;&lt;p&gt;&lt;s
 pan&gt;In this session\, get hands-on experience. We’ll provide an editing d
 emonstration that will offer ideas and suggestions to make your videos be
 tter. Bring your questions\, ideas and experiences to the discussion\, so
  we can help you make the most with what you have. We’ll discuss:&lt;/span&gt;&lt;
 span&gt;&lt;span&gt;&amp;nbsp\;&lt;/span&gt;&lt;/span&gt;&lt;/p&gt;\n&lt;ul&gt;\n&lt;li&gt;How to better plan your e
 dits.&lt;/li&gt;\n&lt;li&gt;&lt;span&gt;Using editing software and tools that might make yo
 ur edits better.&lt;/span&gt;&lt;/li&gt;\n&lt;li&gt;&lt;span&gt;How to build a video project.&lt;/sp
 an&gt;&lt;/li&gt;\n&lt;li&gt;&lt;span&gt;Working with what you have to tell the story.&lt;/span&gt;&lt;
 /li&gt;\n&lt;li&gt;Things to consider when selecting music.&lt;/li&gt;\n&lt;li&gt;&lt;span&gt;Some e
 diting tricks to spice up an edit.&lt;/span&gt;&lt;/li&gt;\n&lt;li&gt;Finishing a project f
 or use on a website vs. social media.&lt;/li&gt;\n&lt;/ul&gt;\n&lt;p&gt;Sign up for the ses
 sion through My Learning Connection.&lt;/p&gt;&lt;/body&gt;&lt;/html&gt;
DTSTART;TZID=America/Chicago:20231005T100000
DTEND;TZID=America/Chicago:20231005T110000
SEQUENCE:0
URL:https://blogs.missouristate.edu/brand/2023/09/11/marcom-training-week-
 fall-2023/
CATEGORIES:Alumni,Current Students,Faculty,Staff
END:VEVENT
END:VCALENDAR