BEGIN:VCALENDAR
VERSION:2.0
METHOD:PUBLISH
PRODID:-//Missouri State University/Calendar of Events//EN
CALSCALE:GREGORIAN
X-WR-TIMEZONE:America/Chicago
BEGIN:VTIMEZONE
TZID:America/Chicago
BEGIN:DAYLIGHT
TZOFFSETFROM:-0600
TZOFFSETTO:-0500
DTSTART:20070311T020000
RRULE:FREQ=YEARLY;BYMONTH=3;BYDAY=2SU
TZNAME:CDT
END:DAYLIGHT
BEGIN:STANDARD
TZOFFSETFROM:-0500
TZOFFSETTO:-0600
DTSTART:20071104T020000
RRULE:FREQ=YEARLY;BYMONTH=11;BYDAY=1SU
TZNAME:CST
END:STANDARD
END:VTIMEZONE
BEGIN:VEVENT
UID:71b222b4-90df-4212-a185-ad1103413704.229442@calendar.missouristate.edu
CREATED:20231004T193029Z
LAST-MODIFIED:20231004T193029Z
LOCATION:Glass Hall\, David D. 342
SUMMARY:CANCELED - Mastering Media Interviews - Level 1
DESCRIPTION:Preparation and practice are key to achieving successful media
  interviews. A strong appearance in a newspaper article or on a TV piece 
 reflects well not only on you\, but also your department and the universi
 ty as a whole. In this session\, you’ll:\n\n\n\nLearn tools and strategie
 s to become more media savvy and handle media interviews like a pro.\nGai
 n valuable tips and advice from dietetics faculty expert and registered d
 ietitian Natalie Allen. Allen has done numerous interviews across all med
 iums for local\, regional and national media outlets.\n\nSign up for the 
 session through My Learning Connection.
X-ALT-DESC;FMTTYPE=text/html:&lt;html&gt;&lt;head&gt;&lt;title&gt;&lt;/title&gt;&lt;/head&gt;&lt;body&gt;&lt;p&gt;&lt;s
 pan&gt;Preparation and practice are key to achieving successful media interv
 iews. A strong appearance in a newspaper article or on a TV piece reflect
 s well not only on you\, but also your department and the university as a
  whole. &lt;/span&gt;In this session\, you’ll:&lt;/p&gt;\n&lt;ul&gt;\n&lt;li&gt;Learn tools and s
 trategies to become more media savvy and handle media interviews like a p
 ro.&lt;/li&gt;\n&lt;li&gt;&lt;span&gt;Gain valuable tips and advice from dietetics faculty 
 expert and registered dietitian Natalie Allen. Allen has done numerous in
 terviews across all mediums for local\, regional and national media outle
 ts.&lt;/span&gt;&lt;/li&gt;\n&lt;/ul&gt;\n&lt;p&gt;&lt;span&gt;Sign up for the session through My Learn
 ing Connection.&lt;/span&gt;&lt;/p&gt;&lt;/body&gt;&lt;/html&gt;
DTSTART;TZID=America/Chicago:20231006T100000
DTEND;TZID=America/Chicago:20231006T120000
SEQUENCE:0
URL:https://blogs.missouristate.edu/brand/2023/09/11/marcom-training-week-
 fall-2023/
CATEGORIES:Alumni,Current Students,Faculty,Staff
END:VEVENT
END:VCALENDAR