BEGIN:VCALENDAR
VERSION:2.0
METHOD:PUBLISH
PRODID:-//Missouri State University/Calendar of Events//EN
CALSCALE:GREGORIAN
X-WR-TIMEZONE:America/Chicago
BEGIN:VTIMEZONE
TZID:America/Chicago
BEGIN:DAYLIGHT
TZOFFSETFROM:-0600
TZOFFSETTO:-0500
DTSTART:20070311T020000
RRULE:FREQ=YEARLY;BYMONTH=3;BYDAY=2SU
TZNAME:CDT
END:DAYLIGHT
BEGIN:STANDARD
TZOFFSETFROM:-0500
TZOFFSETTO:-0600
DTSTART:20071104T020000
RRULE:FREQ=YEARLY;BYMONTH=11;BYDAY=1SU
TZNAME:CST
END:STANDARD
END:VTIMEZONE
BEGIN:VEVENT
UID:89b909d6-b0a1-49a7-adc6-15bea8084b3f.229449@calendar.missouristate.edu
CREATED:20230912T124903Z
LAST-MODIFIED:20230912T124903Z
LOCATION:Karls Hall 101
SUMMARY:Preparing a Successful Internal Grant Application Workshop
DESCRIPTION:Join your colleagues for a discussion of how to write a compet
 itive proposal for a Faculty Research Grant and Summer Faculty Fellowship
 .\n\n\nThe presentation will be followed by time for questions and discus
 sion\, so you are encouraged to bring specific ideas or proposal drafts f
 or feedback. Ranked (i.e.\, tenure track) faculty are eligible for this f
 unding. Faculty Research Grants for FA2023 are due Oct. 1\, 2023\, and Su
 mmer Faculty Fellowships for SU2024 are due Oct. 30\, 2023. If any of the
  due dates fall on a weekend or holiday\, the applications will be accept
 ed the next working day.\n\n\nThe workshop will be conducted by Dean Dr. 
 Julie Masterson.
X-ALT-DESC;FMTTYPE=text/html:&lt;html&gt;&lt;head&gt;&lt;title&gt;&lt;/title&gt;&lt;/head&gt;&lt;body&gt;&lt;p&gt;Jo
 in your colleagues for a discussion of how to write a competitive proposa
 l for a Faculty Research Grant and Summer Faculty Fellowship.&lt;/p&gt;\n&lt;p&gt;The
  presentation will be followed by time for questions and discussion\, so 
 you are encouraged to bring specific ideas or proposal drafts for feedbac
 k. Ranked (i.e.\, tenure track) faculty are eligible for this funding. Fa
 culty Research Grants for FA2023 are due Oct. 1\, 2023\, and Summer Facul
 ty Fellowships for SU2024 are due Oct. 30\, 2023. If any of the due dates
  fall on a weekend or holiday\, the applications will be accepted the nex
 t working day.&lt;/p&gt;\n&lt;p&gt;The workshop will be conducted by Dean Dr. Julie M
 asterson.&lt;/p&gt;&lt;/body&gt;&lt;/html&gt;
DTSTART;TZID=America/Chicago:20230920T140000
DTEND;TZID=America/Chicago:20230920T150000
SEQUENCE:0
URL:
CATEGORIES:Faculty
END:VEVENT
END:VCALENDAR