BEGIN:VCALENDAR
VERSION:2.0
METHOD:PUBLISH
PRODID:-//Missouri State University/Calendar of Events//EN
CALSCALE:GREGORIAN
X-WR-TIMEZONE:America/Chicago
BEGIN:VTIMEZONE
TZID:America/Chicago
BEGIN:DAYLIGHT
TZOFFSETFROM:-0600
TZOFFSETTO:-0500
DTSTART:20070311T020000
RRULE:FREQ=YEARLY;BYMONTH=3;BYDAY=2SU
TZNAME:CDT
END:DAYLIGHT
BEGIN:STANDARD
TZOFFSETFROM:-0500
TZOFFSETTO:-0600
DTSTART:20071104T020000
RRULE:FREQ=YEARLY;BYMONTH=11;BYDAY=1SU
TZNAME:CST
END:STANDARD
END:VTIMEZONE
BEGIN:VEVENT
UID:00000000-0000-0000-0000-000000000000.229450@calendar.missouristate.edu
CREATED:20230912T144521Z
LAST-MODIFIED:20230912T144521Z
LOCATION:To Be Determined
SUMMARY:Honors College Enhancement Task Force Virtual Meeting
DESCRIPTION:Visit with the Honors College Enhancement Task Force chaired b
 y Dean of the College of Natural and Applied Sciences\, Dr. Tammy Jahnke\
 , on September 25 via Zoom to share your experience as an Honors College 
 student and enhancements that you would recommend for the Honors College.
X-ALT-DESC;FMTTYPE=text/html:&lt;html&gt;&lt;head&gt;&lt;title&gt;&lt;/title&gt;&lt;/head&gt;&lt;body&gt;Visit
  with the Honors College Enhancement Task Force chaired by Dean of the Co
 llege of Natural and Applied Sciences\, Dr. Tammy Jahnke\, on September 2
 5 via Zoom to share your experience as an Honors College student and enha
 ncements that you would recommend for the Honors College.&lt;/body&gt;&lt;/html&gt;
DTSTART;TZID=America/Chicago:20230925T120000
DTEND;TZID=America/Chicago:20230925T130000
SEQUENCE:0
URL:https://missouristate.imodules.com?sid=1691&amp;gid=2&amp;pgid=3338&amp;cid=5803&amp;e
 cid=5803&amp;ciid=19515&amp;crid=0
CATEGORIES:Public,Alumni,Parents and Family,Visitors
END:VEVENT
END:VCALENDAR