BEGIN:VCALENDAR
VERSION:2.0
METHOD:PUBLISH
PRODID:-//Missouri State University/Calendar of Events//EN
CALSCALE:GREGORIAN
X-WR-TIMEZONE:America/Chicago
BEGIN:VTIMEZONE
TZID:America/Chicago
BEGIN:DAYLIGHT
TZOFFSETFROM:-0600
TZOFFSETTO:-0500
DTSTART:20070311T020000
RRULE:FREQ=YEARLY;BYMONTH=3;BYDAY=2SU
TZNAME:CDT
END:DAYLIGHT
BEGIN:STANDARD
TZOFFSETFROM:-0500
TZOFFSETTO:-0600
DTSTART:20071104T020000
RRULE:FREQ=YEARLY;BYMONTH=11;BYDAY=1SU
TZNAME:CST
END:STANDARD
END:VTIMEZONE
BEGIN:VEVENT
UID:0d98d001-8757-41da-85b8-79de31737b27.229452@calendar.missouristate.edu
CREATED:20230912T215605Z
LAST-MODIFIED:20230912T215605Z
LOCATION:Siceluff Hall 420\, 411
SUMMARY:The Workplace Writing Forum is Welcoming Speakers from Oracle
DESCRIPTION:Join Workplace Writing Forum (WWF) at 5 p.m. Sept. 26 in-perso
 n or on Zoom\, as we chow down on pizza and listen to speakers Bobby Stow
  and Josh Anderson from Oracle present! They'll be giving an inside look 
 at the big-name software company that invented Java and Solaris.\n\n\nYou
  can join on Zoom: Launch Meeting - Zoom\n\n\nThe two will also host mock
  interviews from 3-4:30 p.m. in SIC 420. You can sign up at: WWF Mock int
 erview Sign Up Sheet.docx\n\n\nWe hope to see you there!
X-ALT-DESC;FMTTYPE=text/html:&lt;html&gt;&lt;head&gt;&lt;title&gt;&lt;/title&gt;&lt;/head&gt;&lt;body&gt;&lt;p&gt;Jo
 in Workplace Writing Forum (WWF) at 5 p.m. Sept. 26 in-person or on Zoom\
 , as we chow down on pizza and listen to speakers &lt;strong&gt;Bobby Stow and 
 Josh Anderson from Oracle&lt;/strong&gt; present! They'll be giving an inside l
 ook at the big-name software company that invented Java and Solaris.&lt;/p&gt;\
 n&lt;p&gt;You can join on Zoom:&amp;nbsp\;&lt;a href="https://missouristate.zoom.us/j/
 97847441691#success"&gt;Launch Meeting - Zoom&lt;/a&gt;&lt;/p&gt;\n&lt;p&gt;The two will also 
 host &lt;strong&gt;mock interviews&lt;/strong&gt; from 3-4:30 p.m. in SIC 420. You ca
 n sign up at:&amp;nbsp\;&lt;a href="https://livemissouristate-my.sharepoint.com/
 :w:/r/personal/mlc1235_live_missouristate_edu/Documents/WWF/WWF%20Mock%20
 interview%20Sign%20Up%20Sheet.docx?d=w833ffd6f7ed34b82a58e1842cdcb8325&amp;am
 p\;csf=1&amp;amp\;web=1&amp;amp\;e=h8Vvws"&gt;WWF Mock interview Sign Up Sheet.docx&lt;
 /a&gt;&lt;/p&gt;\n&lt;p&gt;We hope to see you there!&lt;/p&gt;&lt;/body&gt;&lt;/html&gt;
DTSTART;VALUE=DATE:20230926
DTEND;VALUE=DATE:20230927
SEQUENCE:0
URL:120133.png
CATEGORIES:Alumni,Current Students,Faculty,Future Students,Staff
END:VEVENT
END:VCALENDAR