BEGIN:VCALENDAR
VERSION:2.0
METHOD:PUBLISH
PRODID:-//Missouri State University/Calendar of Events//EN
CALSCALE:GREGORIAN
X-WR-TIMEZONE:America/Chicago
BEGIN:VTIMEZONE
TZID:America/Chicago
BEGIN:DAYLIGHT
TZOFFSETFROM:-0600
TZOFFSETTO:-0500
DTSTART:20070311T020000
RRULE:FREQ=YEARLY;BYMONTH=3;BYDAY=2SU
TZNAME:CDT
END:DAYLIGHT
BEGIN:STANDARD
TZOFFSETFROM:-0500
TZOFFSETTO:-0600
DTSTART:20071104T020000
RRULE:FREQ=YEARLY;BYMONTH=11;BYDAY=1SU
TZNAME:CST
END:STANDARD
END:VTIMEZONE
BEGIN:VEVENT
UID:293ba9c5-ec82-4898-96fc-c25aadc959fb.229486@calendar.missouristate.edu
CREATED:20230913T170239Z
LAST-MODIFIED:20230913T170239Z
LOCATION:
SUMMARY:Linguistics Colloquium: Presentation by Dr. Vicente Iranzo: What's
  in a Name? The Erasure of the Valencian Language in Spanish Education
DESCRIPTION:In this presentation\, I will delve into the relationship betw
 een language and politics within educational contexts. Educational instit
 utions wield significant influence in molding linguistic ideologies\, act
 ively participating in their construction and dissemination. Notably\, te
 xtbooks serve as instrumental tools for promoting distinct linguistic ide
 ologies. I aim to analyze the glotonyms encountered in language textbooks
  used in Spain. Specifically\, I intend to examine how various linguistic
  varieties\, including Castilian\, Catalan\, Galician and Valencian are r
 eferred to within these textbooks.
X-ALT-DESC;FMTTYPE=text/html:&lt;html&gt;&lt;head&gt;&lt;title&gt;&lt;/title&gt;&lt;/head&gt;&lt;body&gt;&lt;p&gt;&lt;s
 pan&gt;In this presentation\, I will delve into the relationship between lan
 guage and politics within educational contexts. Educational institutions 
 wield significant influence in molding linguistic ideologies\, actively p
 articipating in their construction and dissemination. Notably\, textbooks
  serve as instrumental tools for promoting distinct linguistic ideologies
 . I aim to analyze the glotonyms encountered in language textbooks used i
 n Spain. Specifically\, I intend to examine how various linguistic variet
 ies\, including Castilian\, Catalan\, Galician and Valencian are referred
  to within these textbooks.&lt;/span&gt;&lt;/p&gt;&lt;/body&gt;&lt;/html&gt;
DTSTART;TZID=America/Chicago:20231024T120000
DTEND;TZID=America/Chicago:20231024T130000
SEQUENCE:0
URL:https://blogs.missouristate.edu/wlc/2023/03/08/linguistics-colloquia-s
 pring-2023-series/
CATEGORIES:Public,Alumni,Current Students,Faculty,Future Students,Staff
END:VEVENT
END:VCALENDAR