BEGIN:VCALENDAR
VERSION:2.0
METHOD:PUBLISH
PRODID:-//Missouri State University/Calendar of Events//EN
CALSCALE:GREGORIAN
X-WR-TIMEZONE:America/Chicago
BEGIN:VTIMEZONE
TZID:America/Chicago
BEGIN:DAYLIGHT
TZOFFSETFROM:-0600
TZOFFSETTO:-0500
DTSTART:20070311T020000
RRULE:FREQ=YEARLY;BYMONTH=3;BYDAY=2SU
TZNAME:CDT
END:DAYLIGHT
BEGIN:STANDARD
TZOFFSETFROM:-0500
TZOFFSETTO:-0600
DTSTART:20071104T020000
RRULE:FREQ=YEARLY;BYMONTH=11;BYDAY=1SU
TZNAME:CST
END:STANDARD
END:VTIMEZONE
BEGIN:VEVENT
UID:2155539c-5fed-4912-9cb9-0a7271dcaf23.229479@calendar.missouristate.edu
CREATED:20230913T221308Z
LAST-MODIFIED:20230913T221308Z
LOCATION:https://missouristate.zoom.us/j/95499454552?pwd=eEpVeFV0eFV1c3h5Z
 0hLSWNMYjhlZz09
SUMMARY:Chemistry &amp; Biochemistry Seminar: Discussion of Research Experienc
 es for Undergraduate Students and Graduate School with MSU Alumni
DESCRIPTION:Research Experiences for Undergraduate students (REUs) program
 s are offered at numerous institutions across the United State. The progr
 am aims to provide opportunities for undergraduate students to gain valua
 ble hands-on research experiences by working in active research environme
 nts during the summer.\n\n\nIn this session\, four MSU alumni will share 
 experiences from their participation in various REU programs. This sessio
 n also includes discussions about their experiences at their current inst
 itutions (chemistry/biochemistry PhD program etc.)\n\n\nPresenters: Gisel
 le Campos\, Jessica Linson\, Lydia Lang\, Victoria Ogbeifun\n\n\nJoin via
  Zoom.
X-ALT-DESC;FMTTYPE=text/html:&lt;html&gt;&lt;head&gt;&lt;title&gt;&lt;/title&gt;&lt;/head&gt;&lt;body&gt;&lt;p&gt;Re
 search Experiences for Undergraduate students (REUs)&amp;nbsp\;programs are o
 ffered at numerous institutions across the United State. The program aims
  to provide opportunities for undergraduate students to gain valuable han
 ds-on research experiences by working in active research environments dur
 ing the summer.&lt;/p&gt;\n&lt;p&gt;In this session\, four MSU alumni will share expe
 riences from their participation in various REU programs. This session al
 so&amp;nbsp\;includes discussions about their experiences at their current in
 stitutions (chemistry/biochemistry PhD program etc.)&lt;span&gt;&lt;/span&gt;&lt;/p&gt;\n&lt;p
 &gt;Presenters: Giselle Campos\, Jessica Linson\, Lydia Lang\, Victoria Ogbe
 ifun&lt;/p&gt;\n&lt;p&gt;&lt;a href="https://missouristate.zoom.us/j/95499454552?pwd=eEp
 VeFV0eFV1c3h5Z0hLSWNMYjhlZz09"&gt;Join via Zoom&lt;/a&gt;.&lt;span&gt;&lt;span&gt;&lt;/span&gt;&lt;/spa
 n&gt;&lt;/p&gt;&lt;/body&gt;&lt;/html&gt;
DTSTART;TZID=America/Chicago:20230920T153500
DTEND;TZID=America/Chicago:20230920T162500
SEQUENCE:0
URL:https://chemistry.missouristate.edu/Seminars.htm
CATEGORIES:Public,Alumni,Current Students,Faculty,Future Students,Staff
END:VEVENT
END:VCALENDAR