BEGIN:VCALENDAR
VERSION:2.0
METHOD:PUBLISH
PRODID:-//Missouri State University/Calendar of Events//EN
CALSCALE:GREGORIAN
X-WR-TIMEZONE:America/Chicago
BEGIN:VTIMEZONE
TZID:America/Chicago
BEGIN:DAYLIGHT
TZOFFSETFROM:-0600
TZOFFSETTO:-0500
DTSTART:20070311T020000
RRULE:FREQ=YEARLY;BYMONTH=3;BYDAY=2SU
TZNAME:CDT
END:DAYLIGHT
BEGIN:STANDARD
TZOFFSETFROM:-0500
TZOFFSETTO:-0600
DTSTART:20071104T020000
RRULE:FREQ=YEARLY;BYMONTH=11;BYDAY=1SU
TZNAME:CST
END:STANDARD
END:VTIMEZONE
BEGIN:VEVENT
UID:bcdaf07e-f4ed-4995-be3a-b513927daa1f.229482@calendar.missouristate.edu
CREATED:20230918T195033Z
LAST-MODIFIED:20230918T195033Z
LOCATION:Meyer Library\, Duane G. 101
SUMMARY:Chemistry &amp; Biochemistry Seminar: "Creating new electron-deficient
  types of functional dyes that are potentially useful as electron accepto
 rs in solar cells"
DESCRIPTION:We have developed synthetic protocols for the preparation of s
 everal classes of electron-deficient functional dyes that have a first re
 duction potential close to the traditional fullerenes. These include (i) 
 functionalization of BODIPY core at meso-position\; (ii) creation and fun
 ctionalization of BOPHY platform\; (iii) selective synthesis of 2-pyridon
 e-BODIPYs\; (iv) creation of electron-deficient “Manitoba Dipyrromethene”
  (MB-DIPY) chromophores and (v) discovery of hybrid beta-isoindigo-aza-DI
 PY systems.\n\n\nBy: Dr. Victor Nemykin\, University of Tennesee - Knoxvi
 lle.
X-ALT-DESC;FMTTYPE=text/html:&lt;html&gt;&lt;head&gt;&lt;title&gt;&lt;/title&gt;&lt;/head&gt;&lt;body&gt;&lt;p&gt;&lt;s
 pan&gt;&lt;/span&gt;&lt;/p&gt;\n&lt;p&gt;We have developed synthetic protocols for the prepara
 tion of several classes of electron-deficient functional dyes that have a
  first reduction potential close to the traditional fullerenes. These inc
 lude&amp;nbsp\;(i) functionalization of BODIPY core at meso-position\; (ii) c
 reation and functionalization of&amp;nbsp\;BOPHY platform\; (iii) selective s
 ynthesis of 2-pyridone-BODIPYs\; (iv) creation of electron-deficient “Man
 itoba Dipyrromethene” (MB-DIPY) chromophores and (v) discovery of hybrid 
 beta-isoindigo-aza-DIPY systems.&lt;/p&gt;\n&lt;p&gt;By: Dr. Victor Nemykin\, Univers
 ity of Tennesee - Knoxville.&lt;/p&gt;&lt;/body&gt;&lt;/html&gt;
DTSTART;TZID=America/Chicago:20231004T153500
DTEND;TZID=America/Chicago:20231004T162500
SEQUENCE:0
URL:https://chemistry.missouristate.edu/Seminars.htm
CATEGORIES:Public,Alumni,Current Students,Faculty,Future Students,Staff
END:VEVENT
END:VCALENDAR