BEGIN:VCALENDAR
VERSION:2.0
METHOD:PUBLISH
PRODID:-//Missouri State University/Calendar of Events//EN
CALSCALE:GREGORIAN
X-WR-TIMEZONE:America/Chicago
BEGIN:VTIMEZONE
TZID:America/Chicago
BEGIN:DAYLIGHT
TZOFFSETFROM:-0600
TZOFFSETTO:-0500
DTSTART:20070311T020000
RRULE:FREQ=YEARLY;BYMONTH=3;BYDAY=2SU
TZNAME:CDT
END:DAYLIGHT
BEGIN:STANDARD
TZOFFSETFROM:-0500
TZOFFSETTO:-0600
DTSTART:20071104T020000
RRULE:FREQ=YEARLY;BYMONTH=11;BYDAY=1SU
TZNAME:CST
END:STANDARD
END:VTIMEZONE
BEGIN:VEVENT
UID:41e53d4c-8872-43f9-8907-5bf0d70f1970.229483@calendar.missouristate.edu
CREATED:20231113T141926Z
LAST-MODIFIED:20231113T141926Z
LOCATION:
SUMMARY:Chorale Concert
DESCRIPTION:The MSU Music Department invites you to join us for a recital 
 featuring the university Chorale. For more information\, please communica
 te with the event contact.
X-ALT-DESC;FMTTYPE=text/html:&lt;html&gt;&lt;head&gt;&lt;title&gt;&lt;/title&gt;&lt;/head&gt;&lt;body&gt;&lt;p&gt;&lt;s
 pan&gt;The MSU Music Department invites you to join us for a recital featuri
 ng&amp;nbsp\;the university Chorale. For more information\, please communicat
 e with the event contact.&lt;/span&gt;&lt;/p&gt;&lt;/body&gt;&lt;/html&gt;
DTSTART;TZID=America/Chicago:20231203T173000
DTEND;TZID=America/Chicago:20231203T183000
SEQUENCE:0
URL:https://www.eventbrite.com/e/tidings-of-joy-christmas-with-the-msu-cho
 rale-tickets-742403708477
CATEGORIES:Public,Alumni,Current Students,Faculty,Future Students,Staff
END:VEVENT
END:VCALENDAR