BEGIN:VCALENDAR
VERSION:2.0
METHOD:PUBLISH
PRODID:-//Missouri State University/Calendar of Events//EN
CALSCALE:GREGORIAN
X-WR-TIMEZONE:America/Chicago
BEGIN:VTIMEZONE
TZID:America/Chicago
BEGIN:DAYLIGHT
TZOFFSETFROM:-0600
TZOFFSETTO:-0500
DTSTART:20070311T020000
RRULE:FREQ=YEARLY;BYMONTH=3;BYDAY=2SU
TZNAME:CDT
END:DAYLIGHT
BEGIN:STANDARD
TZOFFSETFROM:-0500
TZOFFSETTO:-0600
DTSTART:20071104T020000
RRULE:FREQ=YEARLY;BYMONTH=11;BYDAY=1SU
TZNAME:CST
END:STANDARD
END:VTIMEZONE
BEGIN:VEVENT
UID:808737d1-0eb2-4865-a80b-617b6c371941.229496@calendar.missouristate.edu
CREATED:20230915T014849Z
LAST-MODIFIED:20230915T014849Z
LOCATION:Glass Hall\, David D. 331
SUMMARY:Microsoft Excel Level 1 (Beginner) Hybrid Workshop
DESCRIPTION:This workshop combines the advantages of self-paced learning t
 hrough LinkedIn Learning with the hands-on skill reinforcement of a tradi
 tional instructor-led workshop\, to maximize learning! Participants will 
 be assigned a Learning Path in LinkedIn Learning to be completed before t
 he start of the workshop. The Learning Path content provides an overview 
 of the Excel interface\, entering data\, using formulas and other common 
 Excel features. Then\, during the workshop\, the LinkedIn Learning conten
 t will be reviewed and applied to hands-on activities designed to reinfor
 ce the concepts.
X-ALT-DESC;FMTTYPE=text/html:&lt;html&gt;&lt;head&gt;&lt;title&gt;&lt;/title&gt;&lt;/head&gt;&lt;body&gt;&lt;p&gt;&lt;s
 pan&gt;This workshop combines the advantages of self-paced learning through 
 &lt;strong&gt;LinkedIn Learning&lt;/strong&gt; with the hands-on skill reinforcement 
 of a traditional instructor-led workshop\, to maximize learning! Particip
 ants will be assigned a &lt;strong&gt;Learning Path&lt;/strong&gt; in&amp;nbsp\;&lt;strong&gt;L
 inkedIn Learning&lt;/strong&gt;&amp;nbsp\;to be completed before the start of the w
 orkshop. The &lt;strong&gt;Learning Path&lt;/strong&gt; content provides an overview 
 of the Excel interface\, entering data\, using formulas and other common 
 Excel features. Then\, during the workshop\, the &lt;strong&gt;LinkedIn Learnin
 g&lt;/strong&gt; &lt;span&gt;content will be reviewed and applied to hands-on activit
 ies designed to reinforce the concepts.&lt;/span&gt;&lt;/span&gt;&lt;/p&gt;&lt;/body&gt;&lt;/html&gt;
DTSTART;TZID=America/Chicago:20231027T100000
DTEND;TZID=America/Chicago:20231027T120000
SEQUENCE:0
URL:https://blogs.missouristate.edu/human/2023/09/14/build-your-power-skil
 ls-this-fall/
CATEGORIES:Faculty,Staff
END:VEVENT
END:VCALENDAR