BEGIN:VCALENDAR
VERSION:2.0
METHOD:PUBLISH
PRODID:-//Missouri State University/Calendar of Events//EN
CALSCALE:GREGORIAN
X-WR-TIMEZONE:America/Chicago
BEGIN:VTIMEZONE
TZID:America/Chicago
BEGIN:DAYLIGHT
TZOFFSETFROM:-0600
TZOFFSETTO:-0500
DTSTART:20070311T020000
RRULE:FREQ=YEARLY;BYMONTH=3;BYDAY=2SU
TZNAME:CDT
END:DAYLIGHT
BEGIN:STANDARD
TZOFFSETFROM:-0500
TZOFFSETTO:-0600
DTSTART:20071104T020000
RRULE:FREQ=YEARLY;BYMONTH=11;BYDAY=1SU
TZNAME:CST
END:STANDARD
END:VTIMEZONE
BEGIN:VEVENT
UID:f3f7e054-3c2c-4866-a829-8b36e0d1ee20.229498@calendar.missouristate.edu
CREATED:20230922T213833Z
LAST-MODIFIED:20230922T213833Z
LOCATION:Zoom
SUMMARY:My Learning Connection ILT Instructor Training
DESCRIPTION:Are you responsible for adding your department’s events into M
 y Learning Connection? If so\, this training is for you!\n\n\n\n\n\nLearn
  to create and edit Instructor Led Training (ILT) events and manage sessi
 on rosters while adhering to system standards.\n\n\n\n\n\nThis course is 
 required for all new My Learning Connection ILT Instructors but is also r
 ecommended\, as a review\, for existing ILT Instructors.
X-ALT-DESC;FMTTYPE=text/html:&lt;html&gt;&lt;head&gt;&lt;title&gt;&lt;/title&gt;&lt;/head&gt;&lt;body&gt;&lt;p&gt;Ar
 e you responsible for adding your department’s events into &lt;strong&gt;My Lea
 rning Connection&lt;/strong&gt;? If so\, this training is for you!&lt;/p&gt;\n&lt;p&gt;&lt;/p&gt;
 \n&lt;p&gt;Learn to create and edit Instructor Led Training (ILT) events and ma
 nage session rosters while adhering to system standards.&lt;/p&gt;\n&lt;p&gt;&lt;/p&gt;\n&lt;p
 &gt;&lt;em&gt;This course is &lt;strong&gt;required for all new My Learning Connection I
 LT Instructors&lt;/strong&gt; but is also recommended\, as a review\, for exist
 ing ILT Instructors.&lt;/em&gt;&lt;/p&gt;\n&lt;p&gt;&lt;/p&gt;&lt;/body&gt;&lt;/html&gt;
DTSTART;TZID=America/Chicago:20231010T130000
DTEND;TZID=America/Chicago:20231010T140000
SEQUENCE:0
URL:120176.jpg
CATEGORIES:Faculty,Staff
END:VEVENT
END:VCALENDAR