BEGIN:VCALENDAR
VERSION:2.0
METHOD:PUBLISH
PRODID:-//Missouri State University/Calendar of Events//EN
CALSCALE:GREGORIAN
X-WR-TIMEZONE:America/Chicago
BEGIN:VTIMEZONE
TZID:America/Chicago
BEGIN:DAYLIGHT
TZOFFSETFROM:-0600
TZOFFSETTO:-0500
DTSTART:20070311T020000
RRULE:FREQ=YEARLY;BYMONTH=3;BYDAY=2SU
TZNAME:CDT
END:DAYLIGHT
BEGIN:STANDARD
TZOFFSETFROM:-0500
TZOFFSETTO:-0600
DTSTART:20071104T020000
RRULE:FREQ=YEARLY;BYMONTH=11;BYDAY=1SU
TZNAME:CST
END:STANDARD
END:VTIMEZONE
BEGIN:VEVENT
UID:2bb9ec0f-d0ef-446b-a063-0caecb6adbdf.229502@calendar.missouristate.edu
CREATED:20231018T043416Z
LAST-MODIFIED:20231018T043416Z
LOCATION:Pummill Hall 203
SUMMARY:Inspiring Leadership through Emotional Intelligence - Lead Self Wo
 rkshop
DESCRIPTION:Emotional Intelligence (EI) has been identified as the number 
 one core competency for effective leadership\, productive relationships a
 nd excellent service regardless of rank or title.Learners who attend this
  session will discover that productive relationships can either flourish 
 or wither as a result of our ability\, or inability\, to exert control ov
 er our behavior. The essential premise of EI is that true\, sustainable\,
  success requires an honest awareness\, control and management of one's o
 wn emotions\, and an understanding of the emotions of others. Understand 
 the powerful and positive impact of a high emotional quotient.\n\n\nJoin 
 us for this 3.5-hour session and learn why EI creates leaders and how eas
 ily you can develop yours.Facilitator: Dale McCoy
X-ALT-DESC;FMTTYPE=text/html:&lt;html&gt;&lt;head&gt;&lt;title&gt;&lt;/title&gt;&lt;/head&gt;&lt;body&gt;&lt;p&gt;&lt;s
 pan&gt;Emotional Intelligence (EI) has been identified as the number one cor
 e competency for effective leadership\, productive relationships and exce
 llent service regardless of rank or title.&lt;/span&gt;&lt;br&gt;&lt;br&gt;&lt;span&gt;Learners w
 ho attend this session will discover that productive relationships can ei
 ther flourish or wither as a result of our ability\, or inability\, to ex
 ert control over our behavior. The essential premise of EI is that true\,
  sustainable\, success requires an honest awareness\, control and managem
 ent of one's own emotions\, and an understanding of the emotions of other
 s. Understand the powerful and positive impact of a high emotional quotie
 nt.&lt;/span&gt;&lt;/p&gt;\n&lt;p&gt;&lt;span&gt;Join us for this 3.5-hour session and learn why 
 EI creates leaders and how easily you can develop yours.&lt;br&gt;&lt;/span&gt;&lt;br&gt;&lt;s
 pan&gt;Facilitator: Dale McCoy&lt;/span&gt;&lt;/p&gt;&lt;/body&gt;&lt;/html&gt;
DTSTART;TZID=America/Chicago:20231207T083000
DTEND;TZID=America/Chicago:20231207T120000
SEQUENCE:0
URL:https://blogs.missouristate.edu/human/2023/09/14/build-your-power-skil
 ls-this-fall/
CATEGORIES:Faculty,Staff
END:VEVENT
END:VCALENDAR