BEGIN:VCALENDAR
VERSION:2.0
METHOD:PUBLISH
PRODID:-//Missouri State University/Calendar of Events//EN
CALSCALE:GREGORIAN
X-WR-TIMEZONE:America/Chicago
BEGIN:VTIMEZONE
TZID:America/Chicago
BEGIN:DAYLIGHT
TZOFFSETFROM:-0600
TZOFFSETTO:-0500
DTSTART:20070311T020000
RRULE:FREQ=YEARLY;BYMONTH=3;BYDAY=2SU
TZNAME:CDT
END:DAYLIGHT
BEGIN:STANDARD
TZOFFSETFROM:-0500
TZOFFSETTO:-0600
DTSTART:20071104T020000
RRULE:FREQ=YEARLY;BYMONTH=11;BYDAY=1SU
TZNAME:CST
END:STANDARD
END:VTIMEZONE
BEGIN:VEVENT
UID:4e25b6ec-a04d-40ae-97b2-45c628767878.229504@calendar.missouristate.edu
CREATED:20230919T154015Z
LAST-MODIFIED:20230919T154015Z
LOCATION:Hammons Student Center\, John Q.
SUMMARY:Homecoming: MO State Live
DESCRIPTION:The purpose of MO State Live is to showcase the organization's
  pride for Missouri State University and the Bears through fun performanc
 es.  
X-ALT-DESC;FMTTYPE=text/html:&lt;html&gt;&lt;head&gt;&lt;title&gt;&lt;/title&gt;&lt;/head&gt;&lt;body&gt;&lt;p&gt;Th
 e purpose of MO State Live is to showcase the organization's pride for Mi
 ssouri State University and the Bears through fun performances.&amp;nbsp\;&amp;nb
 sp\;&lt;/p&gt;&lt;/body&gt;&lt;/html&gt;
DTSTART;TZID=America/Chicago:20231019T193000
DTEND;TZID=America/Chicago:20231019T203000
SEQUENCE:0
URL:120179.png
CATEGORIES:Public,Alumni,Current Students,Faculty,Staff
END:VEVENT
END:VCALENDAR