BEGIN:VCALENDAR
VERSION:2.0
METHOD:PUBLISH
PRODID:-//Missouri State University/Calendar of Events//EN
CALSCALE:GREGORIAN
X-WR-TIMEZONE:America/Chicago
BEGIN:VTIMEZONE
TZID:America/Chicago
BEGIN:DAYLIGHT
TZOFFSETFROM:-0600
TZOFFSETTO:-0500
DTSTART:20070311T020000
RRULE:FREQ=YEARLY;BYMONTH=3;BYDAY=2SU
TZNAME:CDT
END:DAYLIGHT
BEGIN:STANDARD
TZOFFSETFROM:-0500
TZOFFSETTO:-0600
DTSTART:20071104T020000
RRULE:FREQ=YEARLY;BYMONTH=11;BYDAY=1SU
TZNAME:CST
END:STANDARD
END:VTIMEZONE
BEGIN:VEVENT
UID:bf3c03a6-9106-462b-9bb3-cee23319a032.229505@calendar.missouristate.edu
CREATED:20230919T154241Z
LAST-MODIFIED:20230919T154241Z
LOCATION:Plaster Student Union\, Robert W. North Mall
SUMMARY:Homecoming: Maroon and White Night
DESCRIPTION:This classic Homecoming tradition will return this year as a n
 on-competitve\, out of this world community event with a goal of uniting 
 past\, present and future Bears. Event will have free food\, music and fu
 n. 
X-ALT-DESC;FMTTYPE=text/html:&lt;html&gt;&lt;head&gt;&lt;title&gt;&lt;/title&gt;&lt;/head&gt;&lt;body&gt;&lt;p&gt;Th
 is classic Homecoming tradition will return this year as a non-competitve
 \, out of this world community event with a goal of uniting past\, presen
 t and future Bears. Event will have free food\, music and fun.&amp;nbsp\;&lt;/p&gt;
 &lt;/body&gt;&lt;/html&gt;
DTSTART;TZID=America/Chicago:20231020T160000
DTEND;TZID=America/Chicago:20231020T190000
SEQUENCE:0
URL:120180.jpg
CATEGORIES:Public,Alumni,Current Students,Faculty,Staff
END:VEVENT
END:VCALENDAR